Workbook

Sheet Rep.19-I
A1: REPORTE N°19 - Información sobre el Grupo Económico de la empresa
A2: Información al 24 de marzo de 2026
A4: Reporte N° 19-I - Información General
F6: Documento de identidad | J6: Domicilio (8)
A7: Fila | B7: Nombre o Razón Social de los Integrantes del grupo económico (1) | C7: Tipo de integrante (2) | D7: Código SBS (3) | E7: CIIU (4) | F7: Tipo de documento (5) | G7: Número de Documento | H7: País de Residencia o de Constitución (6) | I7: Nacionalidad (7) | J7: País (ISO 3166) | K7: Código de Ubicación Geográfica Dpto. – Prov. - Dist.(9) | L7: Nombre y número de la vía, calle, av. interior/piso | M7: Nombre del Representante Legal (10)
A8: 1 | B8: Gentera S.A.B. de C.V. | C8: 2 | F8: 62 | G8: COM100324 | H8: MX | J8: MX | L8: Insurgentes Sur 1458, piso 7, col. Actipan, c.p. 03200 | M8: Enrique Majós Ramírez
A9: 2 | B9: Rallo Verdugo Antonio | C9: 1 | F9: 62 | G9: RAVA620419 | I9: MX | J9: MX | L9: Insurgentes Sur 1458, piso 7, col. Actipan, c.p. 03200
A10: 3 | B10: Danel Cendoya Carlos Antonio | C10: 1 | F10: 62 | G10: DACC691022 | I10: MX | J10: MX | L10: Insurgentes Sur 1458, piso 7, col. Actipan, c.p. 03200
A11: 4 | B11: Labarthe Costas Carlos | C11: 1 | F11: 62 | G11: LACC680718 | I11: MX | J11: MX | L11: Insurgentes Sur 1458, piso 7, col. Actipan, c.p. 03200
A12: 5 | B12: Arrigunaga Gómez del Campo Francisco Javier | C12: 1 | F12: 62 | G12: AIGF630730 | I12: MX | J12: MX | L12: Insurgentes Sur 1458, piso 7, col. Actipan, c.p. 03200
A13: 6 | B13: Echevarría Mendiguren Ignacio | C13: 1 | F13: 62 | G13: EEMI670712BM9 | I13: MX | J13: MX | L13: Insurgentes Sur 1458, piso 7, col. Actipan, c.p. 03200
A14: 7 | B14: Ávalos Hernandez José Ignacio | C14: 1 | F14: 62 | G14: AAHI590112 | I14: MX | J14: MX | L14: Insurgentes Sur 1458, piso 7, col. Actipan, c.p. 03201
A15: 8 | B15: Torres Cisneros Juan Carlos | C15: 1 | F15: 62 | G15: TOCJ630403RV2 | I15: MX | J15: MX | L15: Insurgentes Sur 1458, piso 7, col. Actipan, c.p. 03202
A16: 9 | B16: Casanueva Pérez Juan Ignacio | C16: 1 | F16: 62 | G16: CAPJ680603 | I16: MX | J16: MX | L16: Insurgentes Sur 1458, piso 7, col. Actipan, c.p. 03203
A17: 10 | B17: Esquivel Hernandez Gerardo | C17: 1 | F17: 62 | G17: EUHG651224846 | I17: MX | J17: MX | L17: Insurgentes Sur 1458, piso 7, col. Actipan, c.p. 03204
A18: 11 | B18: González Caballero Martha Elena | C18: 1 | F18: 62 | G18: GOCM541208 | I18: MX | J18: MX | L18: Insurgentes Sur 1458, piso 7, col. Actipan, c.p. 03205
A19: 12 | B19: Reich Sapire Rose Nicole Dominique | C19: 1 | F19: 62 | G19: RESR650203 | I19: MX | J19: MX | L19: Insurgentes Sur 1458, piso 7, col. Actipan, c.p. 03206
A20: 13 | B20: Laub Benavides Christian Thomas | C20: 1 | F20: 01 | G20: 10102747122 | I20: PE | J20: PE | K20: 150101 | L20: Av. Paseo de la República 5895, int. 1301
A21: 14 | B21: Araoz Fernández Mercedes Rosalba | C21: 1 | F21: 01 | G21: 10102756512 | I21: PE | J21: PE | K21: 150101 | L21: Av. Paseo de la República 5895, int. 1301
A22: 15 | B22: Banco Compartamos, S.A Institución de Banca Múltiple | C22: 2 | F22: 62 | G22: BCI001030ECA | H22: MX | J22: MX | L22: Insurgentes Sur 1458, piso 5, col. Actipan, c.p. 03200 | M22: Mancillas Gabrielle Oscar Ivan
A23: 16 | B23: Compartamos Servicios S.A. de C.V. | C23: 2 | F23: 62 | G23: CSE1107189H2 | H23: MX | J23: MX | L23: Insurgentes Sur 1458, piso 7, col. Actipan, c.p. 03200 | M23: Enrique Majós Ramírez
A24: 17 | B24: Peniche Guillermo Adolfo Antonio | C24: 1 | F24: 62 | G24: PEGA760301L52 | I24: MX | J24: MX | L24: Insurgentes Sur 1458, piso 7, col. Actipan, c.p. 03201
A25: 18 | B25: De La Fuente Morales Manuel | C25: 1 | F25: 62 | G25: FUMM730105HA8 | I25: MX | J25: MX | L25: Insurgentes Sur 1458, piso 7, col. Actipan, c.p. 03202
A26: 19 | B26: Majos Ramirez Enrique | C26: 1 | F26: 62 | G26: MARE7001089K1 | I26: MX | J26: MX | L26: Insurgentes Sur 1458, piso 7, col. Actipan, c.p. 03203
A27: 20 | B27: Red Yastás S.A. de C.V. | C27: 2 | F27: 62 | G27: RYA110722BK0 | H27: MX | J27: MX | L27: Insurgentes Sur 1458, piso 3, col. Actipan, c.p. 03200 | M27: Raúl Tenorio Nuñez
A28: 21 | B28: Mancillas Gabrielle Oscar Ivan | C28: 1 | F28: 62 | G28: MAGO6807281B8 | I28: MX | J28: MX | L28: Insurgentes Sur 1458, piso 3, col. Actipan, c.p. 03200
A29: 22 | B29: Controladora AT, S.A.P.I. de C.V. | C29: 2 | F29: 62 | G29: CAT120521IZ2 | H29: MX | J29: MX | L29: Insurgentes Sur 1458, , col. Actipan, c.p. 03200
A30: 23 | B30: Torres de Urquidi Mariana | C30: 1 | F30: 62 | G30: TOUM780819MDFRRR05 | I30: MX | J30: MX | L30: Insurgentes Sur 1458, , col. Actipan, c.p. 03201
A31: 24 | B31: Pallarés Camino Alonso Antonio | C31: 1 | F31: 62 | G31: PACA821013K23 | I31: MX | J31: MX | L31: Insurgentes Sur 1458, , col. Actipan, c.p. 03202
A32: 25 | B32: Langarica Ávila Mario Ignacio | C32: 1 | F32: 62 | G32: N12789681 | I32: MX | J32: MX | L32: Insurgentes Sur 1458, , col. Actipan, c.p. 03203
A33: 26 | B33: Salgado Zárate Minerva | C33: 1 | F33: 62 | G33: SAZM730508EH4 | I33: MX | J33: MX | L33: Insurgentes Sur 1458, , col. Actipan, c.p. 03204
A34: 27 | B34: Casanueva Pérez Santiago | C34: 1 | F34: 62 | G34: CAPS751003PI1 | I34: MX | J34: MX | L34: Insurgentes Sur 1458, , col. Actipan, c.p. 03205
A35: 28 | B35: Aterna Agente de Seguros y de Fianzas S.A. de C.V. | C35: 2 | F35: 62 | G35: AAS100316EV9 | H35: MX | J35: MX | L35: Insurgentes Sur 1458, piso 3, col. Actipan, c.p. 03200 | M35: Manzano Lopez Federico
A36: 29 | B36: Compartamos Banco S.A. | C36: 2 | E36: 6419 | F36: 06 | G36: 20369155360 | H36: PE | J36: PE | K36: 150101 | L36: Av. Paseo de la República 5895, int. 1301 | M36: Peniche Guillermo Adolfo Antonio
A37: 30 | B37: Bruce Maticorena Karina Victoria | C37: 1 | F37: 01 | G37: 7998061 | I37: PE | J37: PE | K37: 150101 | L37: Av. Paseo de la República 5895, int. 1301
A38: 31 | B38: Puente Barron Alejandro | C38: 1 | F38: 05 | G38: G25719741 | I38: MX | J38: MX | L38: Insurgentes Sur 1458, piso 7, col. Actipan, c.p. 03200
A39: 32 | B39: Silva Arguello Alejandro Arturo | C39: 1 | F39: 05 | G39: B01109088 | I39: CR | J39: CR | K39: 150101 | L39: Av. Paseo de la República 5895, int. 1301
A40: 33 | B40: Fin Útil, S.A. de C.V., SOFOM, E.N.R.(“ConCrédito”) | C40: 2 | F40: 62 | G40: FUT070924EQ6 | H40: MX | J40: MX | L40: Independencia 821, Centro de Sinaloa, Culiacán de Rosales, C.P. 80128. | M40: Velarde Ibarra Ramón Antonio
A41: 34 | B41: Gutiérrez Chapa Juan José | C41: 1 | F41: 62 | G41: GUCJ6501164D9 | I41: MX | J41: MX | L41: Independencia 821, Centro de Sinaloa, Culiacán de Rosales, C.P. 80128.
A42: 35 | B42: Blanco Torres Óscar | C42: 1 | F42: 62 | G42: BATX530816V10 | I42: MX | J42: MX | L42: Independencia 821, Centro de Sinaloa, Culiacán de Rosales, C.P. 80128.
A43: 36 | B43: Solano Arroyo José Antonio | C43: 1 | F43: 62 | G43: SOAA560429Q10 | I43: MX | J43: MX | L43: Independencia 821, Centro de Sinaloa, Culiacán de Rosales, C.P. 80128.
A44: 37 | B44: Nieto Aguirre Gloria Lourdes | C44: 1 | F44: 62 | G44: NIAG770706G21 | I44: MX | J44: MX | L44: Independencia 821, Centro de Sinaloa, Culiacán de Rosales, C.P. 80128.
A45: 38 | B45: Gandarillas González Francisco | C45: 1 | F45: 62 | G45: GAGF7010047N7 | I45: MX | J45: MX | L45: Independencia 821, Centro de Sinaloa, Culiacán de Rosales, C.P. 80128.
A46: 39 | B46: Carrasco Jimenes O´Farril Lorena | C46: 1 | F46: 62 | G46: CAJL771010IV2 | I46: MX | J46: MX | L46: Independencia 821, Centro de Sinaloa, Culiacán de Rosales, C.P. 80128.
A47: 40 | B47: COMFU S.A. de C.V. | C47: 2 | F47: 62 | G47: COM150804TQ9 | H47: MX | J47: MX | L47: Independencia 821, Centro de Sinaloa, Culiacán de Rosales, C.P. 80128. | M47: Velarde Ibarra Ramón Antonio
A48: 41 | B48: Fin Crementar S.A. de C.V. | C48: 2 | F48: 62 | G48: FIN240228BA8 | H48: MX | J48: MX | L48: Independencia 821, Centro de Sinaloa, Culiacán de Rosales, C.P. 80128. | M48: Velarde Ibarra Ramón Antonio
A49: 42 | B49: Talento Con Crédito S.A. de C.V. | C49: 2 | F49: 62 | G49: TCO1810162V6 | H49: MX | J49: MX | L49: Independencia 821, Centro de Sinaloa, Culiacán de Rosales, C.P. 80128. | M49: Velarde Ibarra Ramón Antonio
A50: 43 | B50: Pagos Digitales Peruanos S.A. | C50: 2 | D50: 154505512 | E50: 6419 | F50: 06 | G50: 20600536037 | H50: PE | J50: PE | K50: 150101 | L50: Av. Paseo de la República 5895, int. 1301 | M50: Lizana Mariategui Carlos Manuel
A51: 44 | B51: Aterna Corredores de Seguros S.A. | C51: 2 | D51: J-0930 | E51: 6622 | F51: 06 | G51: 20609728494 | H51: PE | J51: PE | K51: 150101 | L51: Av. Paseo de la República 5895, int. 1301 | M51: Diaz Silva Carmen Fiorella
A52: 45 | B52: Comfu Perú S.A.C. | C52: 2 | E52: 6209 | F52: 06 | G52: 20612432563 | H52: PE | J52: PE | K52: 150101 | L52: Av. Paseo de la República 5895, int. 1301 | M52: Fajardo González Freddy Antonio

Sheet Txt-Rep19-I
B1: Fila | C1: Detalle | D1: Nombre o Razón Social de los Integrantes del grupo económico | E1: Tipo de integrante | F1: Código SBS | G1: CIIU | H1: Documento de Identidad | J1: País de Residencia o de Constitución | K1: Nacionalidad | L1: Domicilio | O1: Nombre del Representante Legal
H2: Tipo de documento | I2: Número de Documento | L2: País (ISO 3166) | M2: Código de Ubicación Geográfica (Dpto-Prov-Dist) | N2: Nombre y número de la vía, calle, av. interior/piso
D3: 10 | E3: 20 | F3: 25 | G3: 30 | H3: 50 | I3: 60 | J3: 70 | K3: 80 | L3: 100 | M3: 110 | N3: 120 | O3: 130
B4: 1 | C4: Detalle: 1
A8: Leyenda | B8: Cdo. Fila. | C8: Nombre o Razón . | D8: Tip. Integr. | E8: Cod. SBS. | F8: CIIU | G8: Tip.Cod. | H8: Num.Doc. | I8: Residencia | J8: Nacionalidad. | K8: ISO | L8: Ubigeo | M8: Nom. Av. | N8: Nom. RL. | Q8: Extensión | R8: 0219
A9: Pos. Inicial | B9: 1 | C9: 7 | D9: 127 | E9: 128 | F9: 138 | G9: 142 | H9: 144 | I9: 159 | J9: 161 | K9: 181 | L9: 183 | M9: 189 | N9: 309 | Q9: Anexo | R9: 01
A10: Pos. Final | B10: 6 | C10: 126 | D10: 127 | E10: 137 | F10: 141 | G10: 143 | H10: 158 | I10: 160 | J10: 180 | K10: 182 | L10: 188 | M10: 308 | N10: 428 | Q10: Código SBS | R10: 00228
A11: Longitud | B11: 6 | C11: 120 | D11: 1 | E11: 10 | F11: 4 | G11: 2 | H11: 15 | I11: 2 | J11: 20 | K11: 2 | L11: 6 | M11: 120 | N11: 120 | Q11: Fecha | R11: 20251231 | T11: Código de Expresión de montos
A12: Cod. Columna | B12: 0 | C12: 10 | D12: 20 | E12: 25 | F12: 30 | G12: 50 | H12: 60 | I12: 70 | J12: 80 | K12: 100 | L12: 110 | M12: 120 | N12: 130 | Q12: Resto Título | R12: 010400091000000000 | T12: Datos de control
Q14: Cabecera: | R14: =R8&R9&R10&R11&R12 -> 0219010022820251231010400091000000000
B15: =RIGHT(REPT(" ",B$11)&'Rep.19-I'!A8,B$11) -> 1 | C15: =RIGHT(REPT(" ",C$11)&'Rep.19-I'!B8,C$11) -> Gentera S.A.B. de C.V. | D15: =RIGHT(REPT(" ",D$11)&'Rep.19-I'!C8,D$11) -> 2 | E15: =RIGHT(REPT(" ",E$11)&'Rep.19-I'!D8,E$11) | F15: =RIGHT(REPT(" ",F$11)&'Rep.19-I'!E8,F$11) | G15: =RIGHT(REPT(" ",G$11)&'Rep.19-I'!F8,G$11) -> 62 | H15: =RIGHT(REPT(" ",H$11)&'Rep.19-I'!G8,H$11) -> COM100324 | I15: =RIGHT(REPT(" ",I$11)&'Rep.19-I'!H8,I$11) -> MX | ... N15: =RIGHT(REPT(" ",N$11)&'Rep.19-I'!M8,N$11) -> Enrique Majós Ramírez | R15: =_xlfn.CONCAT(B15,C15,D15,E15,F15,G15,H15,I15,J15,K15,L15,M15,N15) -> 1 Gentera S.A.B. de C.V.2 62 COM100324MX MX Insurgentes Sur 1458, piso 7, col. Actipan, c.p. 03200 Enrique Majós Ramírez
B16: =RIGHT(REPT(" ",B$11)&'Rep.19-I'!A9,B$11) -> 2 | C16: =RIGHT(REPT(" ",C$11)&'Rep.19-I'!B9,C$11) -> Rallo Verdugo Antonio | D16: =RIGHT(REPT(" ",D$11)&'Rep.19-I'!C9,D$11) -> 1 | E16: =RIGHT(REPT(" ",E$11)&'Rep.19-I'!D9,E$11) | F16: =RIGHT(REPT(" ",F$11)&'Rep.19-I'!E9,F$11) | G16: =RIGHT(REPT(" ",G$11)&'Rep.19-I'!F9,G$11) -> 62 | H16: =RIGHT(REPT(" ",H$11)&'Rep.19-I'!G9,H$11) -> RAVA620419 | I16: =RIGHT(REPT(" ",I$11)&'Rep.19-I'!H9,I$11) | ... N16: =RIGHT(REPT(" ",N$11)&'Rep.19-I'!M9,N$11) | R16: =_xlfn.CONCAT(B16,C16,D16,E16,F16,G16,H16,I16,J16,K16,L16,M16,N16) -> 2 Rallo Verdugo Antonio 1 62 RAVA620419 MXMX Insurgentes Sur 1458, piso 7, col. Actipan, c.p. 03200
B17: =RIGHT(REPT(" ",B$11)&'Rep.19-I'!A10,B$11) -> 3 | C17: =RIGHT(REPT(" ",C$11)&'Rep.19-I'!B10,C$11) -> Danel Cendoya Carlos Antonio | D17: =RIGHT(REPT(" ",D$11)&'Rep.19-I'!C10,D$11) -> 1 | E17: =RIGHT(REPT(" ",E$11)&'Rep.19-I'!D10,E$11) | F17: =RIGHT(REPT(" ",F$11)&'Rep.19-I'!E10,F$11) | G17: =RIGHT(REPT(" ",G$11)&'Rep.19-I'!F10,G$11) -> 62 | H17: =RIGHT(REPT(" ",H$11)&'Rep.19-I'!G10,H$11) -> DACC691022 | I17: =RIGHT(REPT(" ",I$11)&'Rep.19-I'!H10,I$11) | ... N17: =RIGHT(REPT(" ",N$11)&'Rep.19-I'!M10,N$11) | R17: =_xlfn.CONCAT(B17,C17,D17,E17,F17,G17,H17,I17,J17,K17,L17,M17,N17) -> 3 Danel Cendoya Carlos Antonio 1 62 DACC691022 MXMX Insurgentes Sur 1458, piso 7, col. Actipan, c.p. 03200
B18: =RIGHT(REPT(" ",B$11)&'Rep.19-I'!A11,B$11) -> 4 | C18: =RIGHT(REPT(" ",C$11)&'Rep.19-I'!B11,C$11) -> Labarthe Costas Carlos | D18: =RIGHT(REPT(" ",D$11)&'Rep.19-I'!C11,D$11) -> 1 | E18: =RIGHT(REPT(" ",E$11)&'Rep.19-I'!D11,E$11) | F18: =RIGHT(REPT(" ",F$11)&'Rep.19-I'!E11,F$11) | G18: =RIGHT(REPT(" ",G$11)&'Rep.19-I'!F11,G$11) -> 62 | H18: =RIGHT(REPT(" ",H$11)&'Rep.19-I'!G11,H$11) -> LACC680718 | I18: =RIGHT(REPT(" ",I$11)&'Rep.19-I'!H11,I$11) | ... N18: =RIGHT(REPT(" ",N$11)&'Rep.19-I'!M11,N$11) | R18: =_xlfn.CONCAT(B18,C18,D18,E18,F18,G18,H18,I18,J18,K18,L18,M18,N18) -> 4 Labarthe Costas Carlos 1 62 LACC680718 MXMX Insurgentes Sur 1458, piso 7, col. Actipan, c.p. 03200
B19: =RIGHT(REPT(" ",B$11)&'Rep.19-I'!A12,B$11) -> 5 | C19: =RIGHT(REPT(" ",C$11)&'Rep.19-I'!B12,C$11) -> Arrigunaga Gómez del Campo Francisco Javier | D19: =RIGHT(REPT(" ",D$11)&'Rep.19-I'!C12,D$11) -> 1 | E19: =RIGHT(REPT(" ",E$11)&'Rep.19-I'!D12,E$11) | F19: =RIGHT(REPT(" ",F$11)&'Rep.19-I'!E12,F$11) | G19: =RIGHT(REPT(" ",G$11)&'Rep.19-I'!F12,G$11) -> 62 | H19: =RIGHT(REPT(" ",H$11)&'Rep.19-I'!G12,H$11) -> AIGF630730 | I19: =RIGHT(REPT(" ",I$11)&'Rep.19-I'!H12,I$11) | ... N19: =RIGHT(REPT(" ",N$11)&'Rep.19-I'!M12,N$11) | R19: =_xlfn.CONCAT(B19,C19,D19,E19,F19,G19,H19,I19,J19,K19,L19,M19,N19) -> 5 Arrigunaga Gómez del Campo Francisco Javier 1 62 AIGF630730 MXMX Insurgentes Sur 1458, piso 7, col. Actipan, c.p. 03200
B20: =RIGHT(REPT(" ",B$11)&'Rep.19-I'!A13,B$11) -> 6 | C20: =RIGHT(REPT(" ",C$11)&'Rep.19-I'!B13,C$11) -> Echevarría Mendiguren Ignacio | D20: =RIGHT(REPT(" ",D$11)&'Rep.19-I'!C13,D$11) -> 1 | E20: =RIGHT(REPT(" ",E$11)&'Rep.19-I'!D13,E$11) | F20: =RIGHT(REPT(" ",F$11)&'Rep.19-I'!E13,F$11) | G20: =RIGHT(REPT(" ",G$11)&'Rep.19-I'!F13,G$11) -> 62 | H20: =RIGHT(REPT(" ",H$11)&'Rep.19-I'!G13,H$11) -> EEMI670712BM9 | I20: =RIGHT(REPT(" ",I$11)&'Rep.19-I'!H13,I$11) | ... N20: =RIGHT(REPT(" ",N$11)&'Rep.19-I'!M13,N$11) | R20: =_xlfn.CONCAT(B20,C20,D20,E20,F20,G20,H20,I20,J20,K20,L20,M20,N20) -> 6 Echevarría Mendiguren Ignacio1 62 EEMI670712BM9 MXMX Insurgentes Sur 1458, piso 7, col. Actipan, c.p. 03200
B21: =RIGHT(REPT(" ",B$11)&'Rep.19-I'!A14,B$11) -> 7 | C21: =RIGHT(REPT(" ",C$11)&'Rep.19-I'!B14,C$11) -> Ávalos Hernandez José Ignacio | D21: =RIGHT(REPT(" ",D$11)&'Rep.19-I'!C14,D$11) -> 1 | E21: =RIGHT(REPT(" ",E$11)&'Rep.19-I'!D14,E$11) | F21: =RIGHT(REPT(" ",F$11)&'Rep.19-I'!E14,F$11) | G21: =RIGHT(REPT(" ",G$11)&'Rep.19-I'!F14,G$11) -> 62 | H21: =RIGHT(REPT(" ",H$11)&'Rep.19-I'!G14,H$11) -> AAHI590112 | I21: =RIGHT(REPT(" ",I$11)&'Rep.19-I'!H14,I$11) | ... N21: =RIGHT(REPT(" ",N$11)&'Rep.19-I'!M14,N$11) | R21: =_xlfn.CONCAT(B21,C21,D21,E21,F21,G21,H21,I21,J21,K21,L21,M21,N21) -> 7 Ávalos Hernandez José Ignacio1 62 AAHI590112 MXMX Insurgentes Sur 1458, piso 7, col. Actipan, c.p. 03201
B22: =RIGHT(REPT(" ",B$11)&'Rep.19-I'!A15,B$11) -> 8 | C22: =RIGHT(REPT(" ",C$11)&'Rep.19-I'!B15,C$11) -> Torres Cisneros Juan Carlos | D22: =RIGHT(REPT(" ",D$11)&'Rep.19-I'!C15,D$11) -> 1 | E22: =RIGHT(REPT(" ",E$11)&'Rep.19-I'!D15,E$11) | F22: =RIGHT(REPT(" ",F$11)&'Rep.19-I'!E15,F$11) | G22: =RIGHT(REPT(" ",G$11)&'Rep.19-I'!F15,G$11) -> 62 | H22: =RIGHT(REPT(" ",H$11)&'Rep.19-I'!G15,H$11) -> TOCJ630403RV2 | I22: =RIGHT(REPT(" ",I$11)&'Rep.19-I'!H15,I$11) | ... N22: =RIGHT(REPT(" ",N$11)&'Rep.19-I'!M15,N$11) | R22: =_xlfn.CONCAT(B22,C22,D22,E22,F22,G22,H22,I22,J22,K22,L22,M22,N22) -> 8 Torres Cisneros Juan Carlos1 62 TOCJ630403RV2 MXMX Insurgentes Sur 1458, piso 7, col. Actipan, c.p. 03202
B23: =RIGHT(REPT(" ",B$11)&'Rep.19-I'!A16,B$11) -> 9 | C23: =RIGHT(REPT(" ",C$11)&'Rep.19-I'!B16,C$11) -> Casanueva Pérez Juan Ignacio | D23: =RIGHT(REPT(" ",D$11)&'Rep.19-I'!C16,D$11) -> 1 | E23: =RIGHT(REPT(" ",E$11)&'Rep.19-I'!D16,E$11) | F23: =RIGHT(REPT(" ",F$11)&'Rep.19-I'!E16,F$11) | G23: =RIGHT(REPT(" ",G$11)&'Rep.19-I'!F16,G$11) -> 62 | H23: =RIGHT(REPT(" ",H$11)&'Rep.19-I'!G16,H$11) -> CAPJ680603 | I23: =RIGHT(REPT(" ",I$11)&'Rep.19-I'!H16,I$11) | ... N23: =RIGHT(REPT(" ",N$11)&'Rep.19-I'!M16,N$11) | R23: =_xlfn.CONCAT(B23,C23,D23,E23,F23,G23,H23,I23,J23,K23,L23,M23,N23) -> 9 Casanueva Pérez Juan Ignacio1 62 CAPJ680603 MXMX Insurgentes Sur 1458, piso 7, col. Actipan, c.p. 03203
B24: =RIGHT(REPT(" ",B$11)&'Rep.19-I'!A17,B$11) -> 10 | C24: =RIGHT(REPT(" ",C$11)&'Rep.19-I'!B17,C$11) -> Esquivel Hernandez Gerardo | D24: =RIGHT(REPT(" ",D$11)&'Rep.19-I'!C17,D$11) -> 1 | E24: =RIGHT(REPT(" ",E$11)&'Rep.19-I'!D17,E$11) | F24: =RIGHT(REPT(" ",F$11)&'Rep.19-I'!E17,F$11) | G24: =RIGHT(REPT(" ",G$11)&'Rep.19-I'!F17,G$11) -> 62 | H24: =RIGHT(REPT(" ",H$11)&'Rep.19-I'!G17,H$11) -> EUHG651224846 | I24: =RIGHT(REPT(" ",I$11)&'Rep.19-I'!H17,I$11) | ... N24: =RIGHT(REPT(" ",N$11)&'Rep.19-I'!M17,N$11) | R24: =_xlfn.CONCAT(B24,C24,D24,E24,F24,G24,H24,I24,J24,K24,L24,M24,N24) -> 10 Esquivel Hernandez Gerardo1 62 EUHG651224846 MXMX Insurgentes Sur 1458, piso 7, col. Actipan, c.p. 03204
B25: =RIGHT(REPT(" ",B$11)&'Rep.19-I'!A18,B$11) -> 11 | C25: =RIGHT(REPT(" ",C$11)&'Rep.19-I'!B18,C$11) -> González Caballero Martha Elena | D25: =RIGHT(REPT(" ",D$11)&'Rep.19-I'!C18,D$11) -> 1 | E25: =RIGHT(REPT(" ",E$11)&'Rep.19-I'!D18,E$11) | F25: =RIGHT(REPT(" ",F$11)&'Rep.19-I'!E18,F$11) | G25: =RIGHT(REPT(" ",G$11)&'Rep.19-I'!F18,G$11) -> 62 | H25: =RIGHT(REPT(" ",H$11)&'Rep.19-I'!G18,H$11) -> GOCM541208 | I25: =RIGHT(REPT(" ",I$11)&'Rep.19-I'!H18,I$11) | ... N25: =RIGHT(REPT(" ",N$11)&'Rep.19-I'!M18,N$11) | R25: =_xlfn.CONCAT(B25,C25,D25,E25,F25,G25,H25,I25,J25,K25,L25,M25,N25) -> 11 González Caballero Martha Elena1 62 GOCM541208 MXMX Insurgentes Sur 1458, piso 7, col. Actipan, c.p. 03205
B26: =RIGHT(REPT(" ",B$11)&'Rep.19-I'!A19,B$11) -> 12 | C26: =RIGHT(REPT(" ",C$11)&'Rep.19-I'!B19,C$11) -> Reich Sapire Rose Nicole Dominique | D26: =RIGHT(REPT(" ",D$11)&'Rep.19-I'!C19,D$11) -> 1 | E26: =RIGHT(REPT(" ",E$11)&'Rep.19-I'!D19,E$11) | F26: =RIGHT(REPT(" ",F$11)&'Rep.19-I'!E19,F$11) | G26: =RIGHT(REPT(" ",G$11)&'Rep.19-I'!F19,G$11) -> 62 | H26: =RIGHT(REPT(" ",H$11)&'Rep.19-I'!G19,H$11) -> RESR650203 | I26: =RIGHT(REPT(" ",I$11)&'Rep.19-I'!H19,I$11) | ... N26: =RIGHT(REPT(" ",N$11)&'Rep.19-I'!M19,N$11) | R26: =_xlfn.CONCAT(B26,C26,D26,E26,F26,G26,H26,I26,J26,K26,L26,M26,N26) -> 12 Reich Sapire Rose Nicole Dominique1 62 RESR650203 MXMX Insurgentes Sur 1458, piso 7, col. Actipan, c.p. 03206
... B60: =RIGHT(REPT(" ",B$11)&'Rep.19-I'!A53,B$11) | C60: =RIGHT(REPT(" ",C$11)&'Rep.19-I'!B53,C$11) | D60: =RIGHT(REPT(" ",D$11)&'Rep.19-I'!C53,D$11) | E60: =RIGHT(REPT(" ",E$11)&'Rep.19-I'!D53,E$11) | F60: =RIGHT(REPT(" ",F$11)&'Rep.19-I'!E53,F$11) | G60: =RIGHT(REPT(" ",G$11)&'Rep.19-I'!F53,G$11) | H60: =RIGHT(REPT(" ",H$11)&'Rep.19-I'!G53,H$11) | I60: =RIGHT(REPT(" ",I$11)&'Rep.19-I'!H53,I$11) | ... N60: =RIGHT(REPT(" ",N$11)&'Rep.19-I'!M53,N$11) | R60: =_xlfn.CONCAT(B60,C60,D60,E60,F60,G60,H60,I60,J60,K60,L60,M60,N60)
B61: =RIGHT(REPT(" ",B$11)&'Rep.19-I'!A54,B$11) | C61: =RIGHT(REPT(" ",C$11)&'Rep.19-I'!B54,C$11) | D61: =RIGHT(REPT(" ",D$11)&'Rep.19-I'!C54,D$11) | E61: =RIGHT(REPT(" ",E$11)&'Rep.19-I'!D54,E$11) | F61: =RIGHT(REPT(" ",F$11)&'Rep.19-I'!E54,F$11) | G61: =RIGHT(REPT(" ",G$11)&'Rep.19-I'!F54,G$11) | H61: =RIGHT(REPT(" ",H$11)&'Rep.19-I'!G54,H$11) | I61: =RIGHT(REPT(" ",I$11)&'Rep.19-I'!H54,I$11) | ... N61: =RIGHT(REPT(" ",N$11)&'Rep.19-I'!M54,N$11)
B62: =RIGHT(REPT(" ",B$11)&'Rep.19-I'!A55,B$11) | C62: =RIGHT(REPT(" ",C$11)&'Rep.19-I'!B55,C$11) | D62: =RIGHT(REPT(" ",D$11)&'Rep.19-I'!C55,D$11) | E62: =RIGHT(REPT(" ",E$11)&'Rep.19-I'!D55,E$11) | F62: =RIGHT(REPT(" ",F$11)&'Rep.19-I'!E55,F$11) | G62: =RIGHT(REPT(" ",G$11)&'Rep.19-I'!F55,G$11) | H62: =RIGHT(REPT(" ",H$11)&'Rep.19-I'!G55,H$11) | I62: =RIGHT(REPT(" ",I$11)&'Rep.19-I'!H55,I$11) | ... N62: =RIGHT(REPT(" ",N$11)&'Rep.19-I'!M55,N$11)
B63: =RIGHT(REPT(" ",B$11)&'Rep.19-I'!A56,B$11) | C63: =RIGHT(REPT(" ",C$11)&'Rep.19-I'!B56,C$11) | D63: =RIGHT(REPT(" ",D$11)&'Rep.19-I'!C56,D$11) | E63: =RIGHT(REPT(" ",E$11)&'Rep.19-I'!D56,E$11) | F63: =RIGHT(REPT(" ",F$11)&'Rep.19-I'!E56,F$11) | G63: =RIGHT(REPT(" ",G$11)&'Rep.19-I'!F56,G$11) | H63: =RIGHT(REPT(" ",H$11)&'Rep.19-I'!G56,H$11) | I63: =RIGHT(REPT(" ",I$11)&'Rep.19-I'!H56,I$11) | ... N63: =RIGHT(REPT(" ",N$11)&'Rep.19-I'!M56,N$11)
B64: =RIGHT(REPT(" ",B$11)&'Rep.19-I'!A57,B$11) | C64: =RIGHT(REPT(" ",C$11)&'Rep.19-I'!B57,C$11) | D64: =RIGHT(REPT(" ",D$11)&'Rep.19-I'!C57,D$11) | E64: =RIGHT(REPT(" ",E$11)&'Rep.19-I'!D57,E$11) | F64: =RIGHT(REPT(" ",F$11)&'Rep.19-I'!E57,F$11) | G64: =RIGHT(REPT(" ",G$11)&'Rep.19-I'!F57,G$11) | H64: =RIGHT(REPT(" ",H$11)&'Rep.19-I'!G57,H$11) | I64: =RIGHT(REPT(" ",I$11)&'Rep.19-I'!H57,I$11) | ... N64: =RIGHT(REPT(" ",N$11)&'Rep.19-I'!M57,N$11)
B65: =RIGHT(REPT(" ",B$11)&'Rep.19-I'!A58,B$11) | C65: =RIGHT(REPT(" ",C$11)&'Rep.19-I'!B58,C$11) | D65: =RIGHT(REPT(" ",D$11)&'Rep.19-I'!C58,D$11) | E65: =RIGHT(REPT(" ",E$11)&'Rep.19-I'!D58,E$11) | F65: =RIGHT(REPT(" ",F$11)&'Rep.19-I'!E58,F$11) | G65: =RIGHT(REPT(" ",G$11)&'Rep.19-I'!F58,G$11) | H65: =RIGHT(REPT(" ",H$11)&'Rep.19-I'!G58,H$11) | I65: =RIGHT(REPT(" ",I$11)&'Rep.19-I'!H58,I$11) | ... N65: =RIGHT(REPT(" ",N$11)&'Rep.19-I'!M58,N$11)
B66: =RIGHT(REPT(" ",B$11)&'Rep.19-I'!A59,B$11) | C66: =RIGHT(REPT(" ",C$11)&'Rep.19-I'!B59,C$11) | D66: =RIGHT(REPT(" ",D$11)&'Rep.19-I'!C59,D$11) | E66: =RIGHT(REPT(" ",E$11)&'Rep.19-I'!D59,E$11) | F66: =RIGHT(REPT(" ",F$11)&'Rep.19-I'!E59,F$11) | G66: =RIGHT(REPT(" ",G$11)&'Rep.19-I'!F59,G$11) | H66: =RIGHT(REPT(" ",H$11)&'Rep.19-I'!G59,H$11) | I66: =RIGHT(REPT(" ",I$11)&'Rep.19-I'!H59,I$11) | ... N66: =RIGHT(REPT(" ",N$11)&'Rep.19-I'!M59,N$11)
B67: =RIGHT(REPT(" ",B$11)&'Rep.19-I'!A60,B$11) | C67: =RIGHT(REPT(" ",C$11)&'Rep.19-I'!B60,C$11) | D67: =RIGHT(REPT(" ",D$11)&'Rep.19-I'!C60,D$11) | E67: =RIGHT(REPT(" ",E$11)&'Rep.19-I'!D60,E$11) | F67: =RIGHT(REPT(" ",F$11)&'Rep.19-I'!E60,F$11) | G67: =RIGHT(REPT(" ",G$11)&'Rep.19-I'!F60,G$11) | H67: =RIGHT(REPT(" ",H$11)&'Rep.19-I'!G60,H$11) | I67: =RIGHT(REPT(" ",I$11)&'Rep.19-I'!H60,I$11) | ... N67: =RIGHT(REPT(" ",N$11)&'Rep.19-I'!M60,N$11)
B68: =RIGHT(REPT(" ",B$11)&'Rep.19-I'!A61,B$11) | C68: =RIGHT(REPT(" ",C$11)&'Rep.19-I'!B61,C$11) | D68: =RIGHT(REPT(" ",D$11)&'Rep.19-I'!C61,D$11) | E68: =RIGHT(REPT(" ",E$11)&'Rep.19-I'!D61,E$11) | F68: =RIGHT(REPT(" ",F$11)&'Rep.19-I'!E61,F$11) | G68: =RIGHT(REPT(" ",G$11)&'Rep.19-I'!F61,G$11) | H68: =RIGHT(REPT(" ",H$11)&'Rep.19-I'!G61,H$11) | I68: =RIGHT(REPT(" ",I$11)&'Rep.19-I'!H61,I$11) | ... N68: =RIGHT(REPT(" ",N$11)&'Rep.19-I'!M61,N$11)
B69: =RIGHT(REPT(" ",B$11)&'Rep.19-I'!A62,B$11) | C69: =RIGHT(REPT(" ",C$11)&'Rep.19-I'!B62,C$11) | D69: =RIGHT(REPT(" ",D$11)&'Rep.19-I'!C62,D$11) | E69: =RIGHT(REPT(" ",E$11)&'Rep.19-I'!D62,E$11) | F69: =RIGHT(REPT(" ",F$11)&'Rep.19-I'!E62,F$11) | G69: =RIGHT(REPT(" ",G$11)&'Rep.19-I'!F62,G$11) | H69: =RIGHT(REPT(" ",H$11)&'Rep.19-I'!G62,H$11) | I69: =RIGHT(REPT(" ",I$11)&'Rep.19-I'!H62,I$11) | ... N69: =RIGHT(REPT(" ",N$11)&'Rep.19-I'!M62,N$11)
B70: =RIGHT(REPT(" ",B$11)&'Rep.19-I'!A63,B$11) | C70: =RIGHT(REPT(" ",C$11)&'Rep.19-I'!B63,C$11) | D70: =RIGHT(REPT(" ",D$11)&'Rep.19-I'!C63,D$11) | E70: =RIGHT(REPT(" ",E$11)&'Rep.19-I'!D63,E$11) | F70: =RIGHT(REPT(" ",F$11)&'Rep.19-I'!E63,F$11) | G70: =RIGHT(REPT(" ",G$11)&'Rep.19-I'!F63,G$11) | H70: =RIGHT(REPT(" ",H$11)&'Rep.19-I'!G63,H$11) | I70: =RIGHT(REPT(" ",I$11)&'Rep.19-I'!H63,I$11) | ... N70: =RIGHT(REPT(" ",N$11)&'Rep.19-I'!M63,N$11)
B71: =RIGHT(REPT(" ",B$11)&'Rep.19-I'!A64,B$11) | C71: =RIGHT(REPT(" ",C$11)&'Rep.19-I'!B64,C$11) | D71: =RIGHT(REPT(" ",D$11)&'Rep.19-I'!C64,D$11) | E71: =RIGHT(REPT(" ",E$11)&'Rep.19-I'!D64,E$11) | F71: =RIGHT(REPT(" ",F$11)&'Rep.19-I'!E64,F$11) | G71: =RIGHT(REPT(" ",G$11)&'Rep.19-I'!F64,G$11) | H71: =RIGHT(REPT(" ",H$11)&'Rep.19-I'!G64,H$11) | I71: =RIGHT(REPT(" ",I$11)&'Rep.19-I'!H64,I$11) | ... N71: =RIGHT(REPT(" ",N$11)&'Rep.19-I'!M64,N$11)
B72: =RIGHT(REPT(" ",B$11)&'Rep.19-I'!A65,B$11) | C72: =RIGHT(REPT(" ",C$11)&'Rep.19-I'!B65,C$11) | D72: =RIGHT(REPT(" ",D$11)&'Rep.19-I'!C65,D$11) | E72: =RIGHT(REPT(" ",E$11)&'Rep.19-I'!D65,E$11) | F72: =RIGHT(REPT(" ",F$11)&'Rep.19-I'!E65,F$11) | G72: =RIGHT(REPT(" ",G$11)&'Rep.19-I'!F65,G$11) | H72: =RIGHT(REPT(" ",H$11)&'Rep.19-I'!G65,H$11) | I72: =RIGHT(REPT(" ",I$11)&'Rep.19-I'!H65,I$11) | ... N72: =RIGHT(REPT(" ",N$11)&'Rep.19-I'!M65,N$11)
... B1000: =RIGHT(REPT(" ",B$11)&'Rep.19-I'!A993,B$11) | C1000: =RIGHT(REPT(" ",C$11)&'Rep.19-I'!B993,C$11) | D1000: =RIGHT(REPT(" ",D$11)&'Rep.19-I'!C993,D$11) | E1000: =RIGHT(REPT(" ",E$11)&'Rep.19-I'!D993,E$11) | F1000: =RIGHT(REPT(" ",F$11)&'Rep.19-I'!E993,F$11) | G1000: =RIGHT(REPT(" ",G$11)&'Rep.19-I'!F993,G$11) | H1000: =RIGHT(REPT(" ",H$11)&'Rep.19-I'!G993,H$11) | I1000: =RIGHT(REPT(" ",I$11)&'Rep.19-I'!H993,I$11) | ... N1000: =RIGHT(REPT(" ",N$11)&'Rep.19-I'!M993,N$11)

Sheet Rep.19-II
A1: REPORTE N°19 - Información sobre el Grupo Económico de la empresa
A2: Información al 24 de marzo de 2026
A4: Reporte N° 19-II - Persona jurídica sobre la cual ejerce control
B6: Integrantes del grupo económico | F6: Persona jurídica o ente jurídico sobre la cual ejerce control
A7: Fila | B7: Nombre o Razón Social (2) | C7: Código SBS (3) | D7: Tipo de documento (4) | E7: Número de Documento | F7: Razón Social (2) | G7: Tipo de documento (4) | H7: Número de Documento | I7: Tipo de Control (5) | J7: Porcentaje (6)
A8: 1 | B8: Gentera S.A.B. de C.V. | D8: 62 | E8: COM1003245I8 | F8: Banco Compartamos, S.A Institución de Banca Múltiple | G8: 62 | H8: BCI001030ECA | I8: a | J8: 99.98
A9: 2 | B9: Gentera S.A.B. de C.V. | D9: 62 | E9: COM1003245I8 | F9: Compartamos Servicios, S.A. de C.V. | G9: 62 | H9: CSE1107189H2 | I9: a | J9: 99.99
A10: 3 | B10: Gentera S.A.B. de C.V. | D10: 62 | E10: COM1003245I8 | F10: Red Yastás,S.A. de C.V. | G10: 62 | H10: RYA110722BK0 | I10: a | J10: 99.99
A11: 4 | B11: Gentera S.A.B. de C.V. | D11: 62 | E11: COM1003245I8 | F11: Controladora AT S.A.P.I de C.V. | G11: 62 | H11: CAT120521IZ2 | I11: a | J11: 50
A12: 5 | B12: Gentera S.A.B. de C.V. | D12: 62 | E12: COM1003245I8 | F12: Compartamos Banco S.A . | G12: 06 | H12: 20369155360 | I12: a | J12: 99.99
A13: 6 | B13: Gentera S.A.B. de C.V. | D13: 62 | E13: COM1003245I8 | F13: Fin Útil S.A. de C.V., SOFOM, E.N.R.(“ConCrédito”) | G13: 62 | H13: FUT070924EQ6 | I13: a | J13: 74.91
A14: 7 | B14: Gentera S.A.B. de C.V. | D14: 62 | E14: COM1003245I8 | F14: Comfu, S.A. de C.V. | G14: 62 | H14: COM150804TQ9 | I14: a | J14: 74.91
A15: 8 | B15: Gentera S.A.B. de C.V. | D15: 62 | E15: COM1003245I8 | F15: Talento Concrédito, S.A. de C.V. | G15: 62 | H15: TCO1810162V6 | I15: a | J15: 74.91
A16: 9 | B16: Gentera S.A.B. de C.V. | D16: 62 | E16: COM1003245I8 | F16: FinCrementar S.A. de C.V. | G16: 62 | H16: FIN240228BA8 | I16: a | J16: 74.91
A17: 10 | B17: Controladora AT S.A.P.I de C.V. | D17: 62 | E17: CAT120521IZ2 | F17: Aterna Corredores de Seguros S.A. | G17: 06 | H17: 20609728494 | I17: a | J17: 99.99
A18: 11 | B18: Controladora AT S.A.P.I de C.V. | D18: 62 | E18: CAT120521IZ2 | F18: Aterna Agente de Seguros y de Fianzas, S.A. de C.V. | G18: 62 | H18: AAS100316EV9 | I18: a | J18: 99.98
A19: 12 | B19: Compartamos Banco S.A . | D19: 06 | E19: 20369155360 | F19: Pagos Digitales Peruanos S.A. | G19: 06 | H19: 20600536037 | I19: a | J19: 93.96
A20: 13 | B20: Comfu, S.A. de C.V. | D20: 62 | E20: COM150804TQ9 | F20: Comfu Perú SAC | G20: 06 | H20: 20612432563 | I20: a | J20: 99.99

Sheet Txt-Rep19-II
A1: Fila | B1: Detalle | C1: Integrantes del grupo económico | G1: Persona jurídica o ente jurídico sobre el cual ejerce control
C2: Nombre o Razón Social | D2: Código SBS | E2: Tipo de documento | F2: Número de Documento | G2: Razón Social | H2: Tipo de documento | I2: Número de Documento | J2: Tipo de Control | K2: Porcentaje
C3: 20 | D3: 25 | E3: 30 | F3: 40 | G3: 60 | H3: 70 | I3: 80 | J3: 90 | K3: 100
A4: 1 | B4: Detalle: 1
A8: Leyenda | B8: Cdo. Fila. | C8: Nombre | D8: CodSBS | E8: Tip.Doc. | F8: Num.Doc. | G8: Rz.Social | H8: Tip.Doc. | I8: Num.Doc. | J8: Tip.Control | K8: Porcentaje | M8: Extensión | N8: 0219
A9: Pos. Inicial | B9: 1 | C9: 7 | D9: 127 | E9: 137 | F9: 139 | G9: 154 | H9: 274 | I9: 276 | J9: 291 | K9: 292 | M9: Anexo | N9: 02
A10: Pos. Final | B10: 6 | C10: 126 | D10: 136 | E10: 138 | F10: 153 | G10: 273 | H10: 275 | I10: 290 | J10: 291 | K10: 297 | M10: Código SBS | N10: 00228
A11: Longitud | B11: 6 | C11: 120 | D11: 10 | E11: 2 | F11: 15 | G11: 120 | H11: 2 | I11: 15 | J11: 1 | K11: 6 | M11: Fecha | N11: 20251231
A12: Cod. Columna | B12: 0 | C12: 20 | D12: 25 | E12: 30 | F12: 40 | G12: 60 | H12: 70 | I12: 80 | J12: 90 | K12: 100 | M12: Resto Título | N12: 010400091000000000
M14: Cabecera: | N14: =N8&N9&N10&N11&N12 -> 0219020022820251231010400091000000000
B15: =RIGHT(REPT(" ",B$11)&'Rep.19-II'!A8,B$11) -> 1 | C15: =RIGHT(REPT(" ",C$11)&'Rep.19-II'!B8,C$11) -> Gentera S.A.B. de C.V. | D15: =RIGHT(REPT(" ",D$11)&'Rep.19-II'!C8,D$11) | E15: =RIGHT(REPT(" ",E$11)&'Rep.19-II'!D8,E$11) -> 62 | F15: =RIGHT(REPT(" ",F$11)&'Rep.19-II'!E8,F$11) -> COM1003245I8 | G15: =RIGHT(REPT(" ",G$11)&'Rep.19-II'!F8,G$11) -> Banco Compartamos, S.A Institución de Banca Múltiple | H15: =RIGHT(REPT(" ",H$11)&'Rep.19-II'!G8,H$11) -> 62 | I15: =RIGHT(REPT(" ",I$11)&'Rep.19-II'!H8,I$11) -> BCI001030ECA | ... K15: =RIGHT(REPT(" ",K$11)&'Rep.19-II'!J8,K$11) -> 99.98 | N15: =_xlfn.CONCAT(B15,C15,D15,E15,F15,G15,H15,I15,J15,K15) -> 1 Gentera S.A.B. de C.V. 62 COM1003245I8 Banco Compartamos, S.A Institución de Banca Múltiple62 BCI001030ECAa 99.98
B16: =RIGHT(REPT(" ",B$11)&'Rep.19-II'!A9,B$11) -> 2 | C16: =RIGHT(REPT(" ",C$11)&'Rep.19-II'!B9,C$11) -> Gentera S.A.B. de C.V. | D16: =RIGHT(REPT(" ",D$11)&'Rep.19-II'!C9,D$11) | E16: =RIGHT(REPT(" ",E$11)&'Rep.19-II'!D9,E$11) -> 62 | F16: =RIGHT(REPT(" ",F$11)&'Rep.19-II'!E9,F$11) -> COM1003245I8 | G16: =RIGHT(REPT(" ",G$11)&'Rep.19-II'!F9,G$11) -> Compartamos Servicios, S.A. de C.V. | H16: =RIGHT(REPT(" ",H$11)&'Rep.19-II'!G9,H$11) -> 62 | I16: =RIGHT(REPT(" ",I$11)&'Rep.19-II'!H9,I$11) -> CSE1107189H2 | ... K16: =RIGHT(REPT(" ",K$11)&'Rep.19-II'!J9,K$11) -> 99.99 | N16: =_xlfn.CONCAT(B16,C16,D16,E16,F16,G16,H16,I16,J16,K16) -> 2 Gentera S.A.B. de C.V. 62 COM1003245I8 Compartamos Servicios, S.A. de C.V. 62 CSE1107189H2a 99.99
B17: =RIGHT(REPT(" ",B$11)&'Rep.19-II'!A10,B$11) -> 3 | C17: =RIGHT(REPT(" ",C$11)&'Rep.19-II'!B10,C$11) -> Gentera S.A.B. de C.V. | D17: =RIGHT(REPT(" ",D$11)&'Rep.19-II'!C10,D$11) | E17: =RIGHT(REPT(" ",E$11)&'Rep.19-II'!D10,E$11) -> 62 | F17: =RIGHT(REPT(" ",F$11)&'Rep.19-II'!E10,F$11) -> COM1003245I8 | G17: =RIGHT(REPT(" ",G$11)&'Rep.19-II'!F10,G$11) -> Red Yastás,S.A. de C.V. | H17: =RIGHT(REPT(" ",H$11)&'Rep.19-II'!G10,H$11) -> 62 | I17: =RIGHT(REPT(" ",I$11)&'Rep.19-II'!H10,I$11) -> RYA110722BK0 | ... K17: =RIGHT(REPT(" ",K$11)&'Rep.19-II'!J10,K$11) -> 99.99 | N17: =_xlfn.CONCAT(B17,C17,D17,E17,F17,G17,H17,I17,J17,K17) -> 3 Gentera S.A.B. de C.V. 62 COM1003245I8 Red Yastás,S.A. de C.V.62 RYA110722BK0a 99.99
B18: =RIGHT(REPT(" ",B$11)&'Rep.19-II'!A11,B$11) -> 4 | C18: =RIGHT(REPT(" ",C$11)&'Rep.19-II'!B11,C$11) -> Gentera S.A.B. de C.V. | D18: =RIGHT(REPT(" ",D$11)&'Rep.19-II'!C11,D$11) | E18: =RIGHT(REPT(" ",E$11)&'Rep.19-II'!D11,E$11) -> 62 | F18: =RIGHT(REPT(" ",F$11)&'Rep.19-II'!E11,F$11) -> COM1003245I8 | G18: =RIGHT(REPT(" ",G$11)&'Rep.19-II'!F11,G$11) -> Controladora AT S.A.P.I de C.V. | H18: =RIGHT(REPT(" ",H$11)&'Rep.19-II'!G11,H$11) -> 62 | I18: =RIGHT(REPT(" ",I$11)&'Rep.19-II'!H11,I$11) -> CAT120521IZ2 | ... K18: =RIGHT(REPT(" ",K$11)&'Rep.19-II'!J11,K$11) -> 50 | N18: =_xlfn.CONCAT(B18,C18,D18,E18,F18,G18,H18,I18,J18,K18) -> 4 Gentera S.A.B. de C.V. 62 COM1003245I8 Controladora AT S.A.P.I de C.V. 62 CAT120521IZ2a 50
B19: =RIGHT(REPT(" ",B$11)&'Rep.19-II'!A12,B$11) -> 5 | C19: =RIGHT(REPT(" ",C$11)&'Rep.19-II'!B12,C$11) -> Gentera S.A.B. de C.V. | D19: =RIGHT(REPT(" ",D$11)&'Rep.19-II'!C12,D$11) | E19: =RIGHT(REPT(" ",E$11)&'Rep.19-II'!D12,E$11) -> 62 | F19: =RIGHT(REPT(" ",F$11)&'Rep.19-II'!E12,F$11) -> COM1003245I8 | G19: =RIGHT(REPT(" ",G$11)&'Rep.19-II'!F12,G$11) -> Compartamos Banco S.A . | H19: =RIGHT(REPT(" ",H$11)&'Rep.19-II'!G12,H$11) -> 06 | I19: =RIGHT(REPT(" ",I$11)&'Rep.19-II'!H12,I$11) -> 20369155360 | ... K19: =RIGHT(REPT(" ",K$11)&'Rep.19-II'!J12,K$11) -> 99.99 | N19: =_xlfn.CONCAT(B19,C19,D19,E19,F19,G19,H19,I19,J19,K19) -> 5 Gentera S.A.B. de C.V. 62 COM1003245I8 Compartamos Banco S.A . 06 20369155360a 99.99
B20: =RIGHT(REPT(" ",B$11)&'Rep.19-II'!A13,B$11) -> 6 | C20: =RIGHT(REPT(" ",C$11)&'Rep.19-II'!B13,C$11) -> Gentera S.A.B. de C.V. | D20: =RIGHT(REPT(" ",D$11)&'Rep.19-II'!C13,D$11) | E20: =RIGHT(REPT(" ",E$11)&'Rep.19-II'!D13,E$11) -> 62 | F20: =RIGHT(REPT(" ",F$11)&'Rep.19-II'!E13,F$11) -> COM1003245I8 | G20: =RIGHT(REPT(" ",G$11)&'Rep.19-II'!F13,G$11) -> Fin Útil S.A. de C.V., SOFOM, E.N.R.(“ConCrédito”) | H20: =RIGHT(REPT(" ",H$11)&'Rep.19-II'!G13,H$11) -> 62 | I20: =RIGHT(REPT(" ",I$11)&'Rep.19-II'!H13,I$11) -> FUT070924EQ6 | ... K20: =RIGHT(REPT(" ",K$11)&'Rep.19-II'!J13,K$11) -> 74.91 | N20: =_xlfn.CONCAT(B20,C20,D20,E20,F20,G20,H20,I20,J20,K20) -> 6 Gentera S.A.B. de C.V. 62 COM1003245I8 Fin Útil S.A. de C.V., SOFOM, E.N.R.(“ConCrédito”)62 FUT070924EQ6a 74.91
B21: =RIGHT(REPT(" ",B$11)&'Rep.19-II'!A14,B$11) -> 7 | C21: =RIGHT(REPT(" ",C$11)&'Rep.19-II'!B14,C$11) -> Gentera S.A.B. de C.V. | D21: =RIGHT(REPT(" ",D$11)&'Rep.19-II'!C14,D$11) | E21: =RIGHT(REPT(" ",E$11)&'Rep.19-II'!D14,E$11) -> 62 | F21: =RIGHT(REPT(" ",F$11)&'Rep.19-II'!E14,F$11) -> COM1003245I8 | G21: =RIGHT(REPT(" ",G$11)&'Rep.19-II'!F14,G$11) -> Comfu, S.A. de C.V. | H21: =RIGHT(REPT(" ",H$11)&'Rep.19-II'!G14,H$11) -> 62 | I21: =RIGHT(REPT(" ",I$11)&'Rep.19-II'!H14,I$11) -> COM150804TQ9 | ... K21: =RIGHT(REPT(" ",K$11)&'Rep.19-II'!J14,K$11) -> 74.91 | N21: =_xlfn.CONCAT(B21,C21,D21,E21,F21,G21,H21,I21,J21,K21) -> 7 Gentera S.A.B. de C.V. 62 COM1003245I8 Comfu, S.A. de C.V.62 COM150804TQ9a 74.91
B22: =RIGHT(REPT(" ",B$11)&'Rep.19-II'!A15,B$11) -> 8 | C22: =RIGHT(REPT(" ",C$11)&'Rep.19-II'!B15,C$11) -> Gentera S.A.B. de C.V. | D22: =RIGHT(REPT(" ",D$11)&'Rep.19-II'!C15,D$11) | E22: =RIGHT(REPT(" ",E$11)&'Rep.19-II'!D15,E$11) -> 62 | F22: =RIGHT(REPT(" ",F$11)&'Rep.19-II'!E15,F$11) -> COM1003245I8 | G22: =RIGHT(REPT(" ",G$11)&'Rep.19-II'!F15,G$11) -> Talento Concrédito, S.A. de C.V. | H22: =RIGHT(REPT(" ",H$11)&'Rep.19-II'!G15,H$11) -> 62 | I22: =RIGHT(REPT(" ",I$11)&'Rep.19-II'!H15,I$11) -> TCO1810162V6 | ... K22: =RIGHT(REPT(" ",K$11)&'Rep.19-II'!J15,K$11) -> 74.91 | N22: =_xlfn.CONCAT(B22,C22,D22,E22,F22,G22,H22,I22,J22,K22) -> 8 Gentera S.A.B. de C.V. 62 COM1003245I8 Talento Concrédito, S.A. de C.V.62 TCO1810162V6a 74.91
B23: =RIGHT(REPT(" ",B$11)&'Rep.19-II'!A16,B$11) -> 9 | C23: =RIGHT(REPT(" ",C$11)&'Rep.19-II'!B16,C$11) -> Gentera S.A.B. de C.V. | D23: =RIGHT(REPT(" ",D$11)&'Rep.19-II'!C16,D$11) | E23: =RIGHT(REPT(" ",E$11)&'Rep.19-II'!D16,E$11) -> 62 | F23: =RIGHT(REPT(" ",F$11)&'Rep.19-II'!E16,F$11) -> COM1003245I8 | G23: =RIGHT(REPT(" ",G$11)&'Rep.19-II'!F16,G$11) -> FinCrementar S.A. de C.V. | H23: =RIGHT(REPT(" ",H$11)&'Rep.19-II'!G16,H$11) -> 62 | I23: =RIGHT(REPT(" ",I$11)&'Rep.19-II'!H16,I$11) -> FIN240228BA8 | ... K23: =RIGHT(REPT(" ",K$11)&'Rep.19-II'!J16,K$11) -> 74.91 | N23: =_xlfn.CONCAT(B23,C23,D23,E23,F23,G23,H23,I23,J23,K23) -> 9 Gentera S.A.B. de C.V. 62 COM1003245I8 FinCrementar S.A. de C.V.62 FIN240228BA8a 74.91
B24: =RIGHT(REPT(" ",B$11)&'Rep.19-II'!A17,B$11) -> 10 | C24: =RIGHT(REPT(" ",C$11)&'Rep.19-II'!B17,C$11) -> Controladora AT S.A.P.I de C.V. | D24: =RIGHT(REPT(" ",D$11)&'Rep.19-II'!C17,D$11) | E24: =RIGHT(REPT(" ",E$11)&'Rep.19-II'!D17,E$11) -> 62 | F24: =RIGHT(REPT(" ",F$11)&'Rep.19-II'!E17,F$11) -> CAT120521IZ2 | G24: =RIGHT(REPT(" ",G$11)&'Rep.19-II'!F17,G$11) -> Aterna Corredores de Seguros S.A. | H24: =RIGHT(REPT(" ",H$11)&'Rep.19-II'!G17,H$11) -> 06 | I24: =RIGHT(REPT(" ",I$11)&'Rep.19-II'!H17,I$11) -> 20609728494 | ... K24: =RIGHT(REPT(" ",K$11)&'Rep.19-II'!J17,K$11) -> 99.99 | N24: =_xlfn.CONCAT(B24,C24,D24,E24,F24,G24,H24,I24,J24,K24) -> 10 Controladora AT S.A.P.I de C.V. 62 CAT120521IZ2 Aterna Corredores de Seguros S.A.06 20609728494a 99.99
B25: =RIGHT(REPT(" ",B$11)&'Rep.19-II'!A18,B$11) -> 11 | C25: =RIGHT(REPT(" ",C$11)&'Rep.19-II'!B18,C$11) -> Controladora AT S.A.P.I de C.V. | D25: =RIGHT(REPT(" ",D$11)&'Rep.19-II'!C18,D$11) | E25: =RIGHT(REPT(" ",E$11)&'Rep.19-II'!D18,E$11) -> 62 | F25: =RIGHT(REPT(" ",F$11)&'Rep.19-II'!E18,F$11) -> CAT120521IZ2 | G25: =RIGHT(REPT(" ",G$11)&'Rep.19-II'!F18,G$11) -> Aterna Agente de Seguros y de Fianzas, S.A. de C.V. | H25: =RIGHT(REPT(" ",H$11)&'Rep.19-II'!G18,H$11) -> 62 | I25: =RIGHT(REPT(" ",I$11)&'Rep.19-II'!H18,I$11) -> AAS100316EV9 | ... K25: =RIGHT(REPT(" ",K$11)&'Rep.19-II'!J18,K$11) -> 99.98 | N25: =_xlfn.CONCAT(B25,C25,D25,E25,F25,G25,H25,I25,J25,K25) -> 11 Controladora AT S.A.P.I de C.V. 62 CAT120521IZ2 Aterna Agente de Seguros y de Fianzas, S.A. de C.V. 62 AAS100316EV9a 99.98
B26: =RIGHT(REPT(" ",B$11)&'Rep.19-II'!A19,B$11) -> 12 | C26: =RIGHT(REPT(" ",C$11)&'Rep.19-II'!B19,C$11) -> Compartamos Banco S.A . | D26: =RIGHT(REPT(" ",D$11)&'Rep.19-II'!C19,D$11) | E26: =RIGHT(REPT(" ",E$11)&'Rep.19-II'!D19,E$11) -> 06 | F26: =RIGHT(REPT(" ",F$11)&'Rep.19-II'!E19,F$11) -> 20369155360 | G26: =RIGHT(REPT(" ",G$11)&'Rep.19-II'!F19,G$11) -> Pagos Digitales Peruanos S.A. | H26: =RIGHT(REPT(" ",H$11)&'Rep.19-II'!G19,H$11) -> 06 | I26: =RIGHT(REPT(" ",I$11)&'Rep.19-II'!H19,I$11) -> 20600536037 | ... K26: =RIGHT(REPT(" ",K$11)&'Rep.19-II'!J19,K$11) -> 93.96 | N26: =_xlfn.CONCAT(B26,C26,D26,E26,F26,G26,H26,I26,J26,K26) -> 12 Compartamos Banco S.A . 06 20369155360 Pagos Digitales Peruanos S.A. 06 20600536037a 93.96
... B200: =RIGHT(REPT(" ",B$11)&'Rep.19-II'!A193,B$11) | C200: =RIGHT(REPT(" ",C$11)&'Rep.19-II'!B193,C$11) | D200: =RIGHT(REPT(" ",D$11)&'Rep.19-II'!C193,D$11) | E200: =RIGHT(REPT(" ",E$11)&'Rep.19-II'!D193,E$11) | F200: =RIGHT(REPT(" ",F$11)&'Rep.19-II'!E193,F$11) | G200: =RIGHT(REPT(" ",G$11)&'Rep.19-II'!F193,G$11) | H200: =RIGHT(REPT(" ",H$11)&'Rep.19-II'!G193,H$11) | I200: =RIGHT(REPT(" ",I$11)&'Rep.19-II'!H193,I$11) | ... K200: =RIGHT(REPT(" ",K$11)&'Rep.19-II'!J193,K$11) | N200: =_xlfn.CONCAT(B200,C200,D200,E200,F200,G200,H200,I200,J200,K200)

Sheet Rep.19-A
A1: REPORTE N°19-A - Información sobre personas jurídicas del Grupo Económico de la empresa
A2: Informacion al 24 de marzo del 2026
B4: PERSONA JURIDICA O ENTE JURÍDICO INTEGRANTE DEL GRUPO ECONÓMICO | F4: INFORMACIÓN DE LA PERSONA JURÍDICA O ENTE JURÍDICO INTEGRANTE DEL GRUPO ECONONÓMICO
D5: Documento de identidad | I5: Documento de identidad
A6: Fila | B6: Nombre o Razón Social (1) | C6: Código SBS (1) | D6: Tipo de documento (1) | E6: Número de Documento (1) | F6: Nombre o Razón Social (2) | G6: Tipo de integrante (3) | H6: Código SBS (4) | I6: Tipo de documento (5) | J6: Número de Documento | K6: País de Residencia o de Constitución (6) | L6: Participación Accionaria o equivalente % (7) | M6: Cargo (8) | N6: Otro Cargo (9)
A7: 1 | B7: Gentera SAB de CV | D7: 62 | E7: COM100324 | F7: Rallo Verdugo Antonio | G7: '01 | I7: 62 | J7: RAVA620419 | K7: MX | L7: 0 | M7: '02
A8: 2 | B8: Gentera SAB de CV | D8: 62 | E8: COM100324 | F8: Danel Cendoya Carlos Antonio | G8: '01 | I8: 62 | J8: DACC691022 | K8: MX | L8: 0 | M8: '01 | P8: =+IF(LEN(I8)=1,"'0"&I8,"")
A9: 3 | B9: Gentera SAB de CV | D9: 62 | E9: COM100324 | F9: Labarthe Costas Carlos | G9: '01 | I9: 62 | J9: LACC680718 | K9: MX | L9: 0 | M9: '02 | P9: =+IF(LEN(I9)=1,"'0"&I9,"")
A10: 4 | B10: Gentera SAB de CV | D10: 62 | E10: COM100324 | F10: Arrigunaga Gómez del Campo Francisco Javier | G10: '01 | I10: 62 | J10: AIGF630730 | K10: MX | L10: 0 | M10: '02 | P10: =+IF(LEN(I10)=1,"'0"&I10,"")
A11: 5 | B11: Gentera SAB de CV | D11: 62 | E11: COM100324 | F11: Echevarría Mendiguren Ignacio | G11: '01 | I11: 62 | J11: EEMI670712BM9 | K11: MX | L11: 0 | M11: '02 | P11: =+IF(LEN(I11)=1,"'0"&I11,"")
A12: 6 | B12: Gentera SAB de CV | D12: 62 | E12: COM100324 | F12: Ávalos Hernandez José Ignacio | G12: '01 | I12: 62 | J12: AAHI590112 | K12: MX | L12: 0 | M12: '02 | P12: =+IF(LEN(I12)=1,"'0"&I12,"")
A13: 7 | B13: Gentera SAB de CV | D13: 62 | E13: COM100324 | F13: Torres Cisneros Juan Carlos | G13: '01 | I13: 62 | J13: TOCJ630403RV2 | K13: MX | L13: 0 | M13: '02 | P13: =+IF(LEN(I13)=1,"'0"&I13,"")
A14: 8 | B14: Gentera SAB de CV | D14: 62 | E14: COM100324 | F14: Casanueva Pérez Juan Ignacio | G14: '01 | I14: 62 | J14: CAPJ680603 | K14: MX | L14: 0 | M14: '02 | P14: =+IF(LEN(I14)=1,"'0"&I14,"")
A15: 9 | B15: Gentera SAB de CV | D15: 62 | E15: COM100324 | F15: Esquivel Hernandez Gerardo | G15: '01 | I15: 62 | J15: EUHG651224846 | K15: MX | L15: 0 | M15: '02 | P15: =+IF(LEN(I15)=1,"'0"&I15,"")
A16: 10 | B16: Gentera SAB de CV | D16: 62 | E16: COM100324 | F16: González Caballero Martha Elena | G16: '01 | I16: 62 | J16: GOCM541208 | K16: MX | L16: 0 | M16: '02 | P16: =+IF(LEN(I16)=1,"'0"&I16,"")
A17: 11 | B17: Gentera SAB de CV | D17: 62 | E17: COM100324 | F17: Reich Sapire Rose Nicole Dominique | G17: '01 | I17: 62 | J17: RESR650203 | K17: MX | L17: 0 | M17: '02 | P17: =+IF(LEN(I17)=1,"'0"&I17,"")
A18: 12 | B18: Gentera SAB de CV | D18: 62 | E18: COM100324 | F18: Laub Benavides Christian Thomas | G18: '01 | I18: 01 | J18: 10102747122 | K18: PE | L18: 0 | M18: '02 | P18: =+IF(LEN(I18)=1,"'0"&I18,"")
A19: 13 | B19: Gentera SAB de CV | D19: 62 | E19: COM100324 | F19: Araoz Fernández Mercedes Rosalba | G19: '01 | I19: 01 | J19: 10102756512 | K19: PE | L19: 0 | M19: '02 | P19: =+IF(LEN(I19)=1,"'0"&I19,"")
A20: 14 | B20: Gentera SAB de CV | D20: 62 | E20: COM100324 | F20: Majós Ramírez Enrique | G20: '01 | I20: 62 | J20: MARE7001089K1 | K20: MX | L20: 0 | M20: '03 | P20: =+IF(LEN(I20)=1,"'0"&I20,"")
A21: 15 | B21: Banco Compartamos, S.A Institución de Banca Múltiple | D21: 62 | E21: BCI001030ECA | F21: Gentera S.A.B. de C.V. | G21: '02 | I21: 62 | J21: COM100324 | K21: MX | L21: 99.98 | M21: '00 | P21: =+IF(LEN(I21)=1,"'0"&I21,"")
A22: 16 | B22: Banco Compartamos, S.A Institución de Banca Múltiple | D22: 62 | E22: BCI001030ECA | F22: Rallo Verdugo Antonio | G22: '01 | I22: 62 | J22: RAVA620419 | K22: MX | L22: 0 | M22: '02 | P22: =+IF(LEN(I22)=1,"'0"&I22,"")
A23: 17 | B23: Banco Compartamos, S.A Institución de Banca Múltiple | D23: 62 | E23: BCI001030ECA | F23: Danel Cendoya Carlos Antonio | G23: '01 | I23: 62 | J23: DACC691022 | K23: MX | L23: 0 | M23: '02 | P23: =+IF(LEN(I23)=1,"'0"&I23,"")
A24: 18 | B24: Banco Compartamos, S.A Institución de Banca Múltiple | D24: 62 | E24: BCI001030ECA | F24: Labarthe Costas Carlos | G24: '01 | I24: 62 | J24: LACC680718 | K24: MX | L24: 0 | M24: '01 | P24: =+IF(LEN(I24)=1,"'0"&I24,"")
A25: 19 | B25: Banco Compartamos, S.A Institución de Banca Múltiple | D25: 62 | E25: BCI001030ECA | F25: Arrigunaga Gómez del Campo Francisco Javier | G25: '01 | I25: 62 | J25: AIGF630730 | K25: MX | L25: 0 | M25: '02 | P25: =+IF(LEN(I25)=1,"'0"&I25,"")
A26: 20 | B26: Banco Compartamos, S.A Institución de Banca Múltiple | D26: 62 | E26: BCI001030ECA | F26: Echevarría Mendiguren Ignacio | G26: '01 | I26: 62 | J26: EEMI670712BM9 | K26: MX | L26: 0 | M26: '02 | P26: =+IF(LEN(I26)=1,"'0"&I26,"")
A27: 21 | B27: Banco Compartamos, S.A Institución de Banca Múltiple | D27: 62 | E27: BCI001030ECA | F27: Ávalos Hernandez José Ignacio | G27: '01 | I27: 62 | J27: AAHI590112 | K27: MX | L27: 0 | M27: '02 | P27: =+IF(LEN(I27)=1,"'0"&I27,"")
A28: 22 | B28: Banco Compartamos, S.A Institución de Banca Múltiple | D28: 62 | E28: BCI001030ECA | F28: Torres Cisneros Juan Carlos | G28: '01 | I28: 62 | J28: TOCJ630403RV2 | K28: MX | L28: 0 | M28: '02 | P28: =+IF(LEN(I28)=1,"'0"&I28,"")
A29: 23 | B29: Banco Compartamos, S.A Institución de Banca Múltiple | D29: 62 | E29: BCI001030ECA | F29: Casanueva Pérez Juan Ignacio | G29: '01 | I29: 62 | J29: CAPJ680603 | K29: MX | L29: 0 | M29: '02 | P29: =+IF(LEN(I29)=1,"'0"&I29,"")
A30: 24 | B30: Banco Compartamos, S.A Institución de Banca Múltiple | D30: 62 | E30: BCI001030ECA | F30: Esquivel Hernandez Gerardo | G30: '01 | I30: 62 | J30: EUHG651224846 | K30: MX | L30: 0 | M30: '02 | P30: =+IF(LEN(I30)=1,"'0"&I30,"")
A31: 25 | B31: Banco Compartamos, S.A Institución de Banca Múltiple | D31: 62 | E31: BCI001030ECA | F31: González Caballero Martha Elena | G31: '01 | I31: 62 | J31: GOCM541208 | K31: MX | L31: 0 | M31: '02 | P31: =+IF(LEN(I31)=1,"'0"&I31,"")
A32: 26 | B32: Banco Compartamos, S.A Institución de Banca Múltiple | D32: 62 | E32: BCI001030ECA | F32: Reich Sapire Rose Nicole Dominique | G32: '01 | I32: 62 | J32: RESR650203 | K32: MX | L32: 0 | M32: '02 | P32: =+IF(LEN(I32)=1,"'0"&I32,"")
A33: 27 | B33: Banco Compartamos, S.A Institución de Banca Múltiple | D33: 62 | E33: BCI001030ECA | F33: Laub Benavides Christian Thomas | G33: '01 | I33: '01 | J33: 10102747122 | K33: PE | L33: 0 | M33: '02 | P33: =+IF(LEN(I33)=1,"'0"&I33,"")
A34: 28 | B34: Banco Compartamos, S.A Institución de Banca Múltiple | D34: 62 | E34: BCI001030ECA | F34: Araoz Fernández Mercedes Rosalba | G34: '01 | I34: '01 | J34: 10102756512 | K34: PE | L34: 0 | M34: '02 | P34: =+IF(LEN(I34)=1,"'0"&I34,"")
A35: 29 | B35: Banco Compartamos, S.A Institución de Banca Múltiple | D35: 62 | E35: BCI001030ECA | F35: Mancillas Gabrielle Oscar Iván | G35: '01 | I35: 62 | J35: MAGO6807281B8 | K35: MX | L35: 0 | M35: '03 | P35: =+IF(LEN(I35)=1,"'0"&I35,"")
A36: 30 | B36: Compartamos Servicios S.A. de C.V. | D36: 62 | E36: CSE1107189H2 | F36: Gentera S.A.B. de C.V. | G36: '02 | I36: 62 | J36: COM100324 | K36: MX | L36: 99.99 | M36: '00 | P36: =+IF(LEN(I36)=1,"'0"&I36,"")
A37: 31 | B37: Compartamos Servicios S.A. de C.V. | D37: 62 | E37: CSE1107189H2 | F37: Peniche Guillermo Adolfo Antonio | G37: '01 | I37: 62 | J37: PEGA760301L52 | K37: MX | L37: 0 | M37: '02 | P37: =+IF(LEN(I37)=1,"'0"&I37,"")
A38: 32 | B38: Compartamos Servicios S.A. de C.V. | D38: 62 | E38: CSE1107189H2 | F38: De La Fuente Morales Manuel | G38: '01 | I38: 62 | J38: FUMM730105HA8 | K38: MX | L38: 0 | M38: '02 | P38: =+IF(LEN(I38)=1,"'0"&I38,"")
A39: 33 | B39: Compartamos Servicios S.A. de C.V. | D39: 62 | E39: CSE1107189H2 | F39: Majos Ramirez Enrique | G39: '01 | I39: 62 | J39: MARE7001089K1 | K39: MX | L39: 0 | M39: '01 | P39: =+IF(LEN(I39)=1,"'0"&I39,"")
A40: 34 | B40: Red Yastás S.A. de C.V. | D40: 62 | E40: RYA110722BK0 | F40: Gentera S.A.B. de C.V. | G40: '02 | I40: 62 | J40: COM100324 | K40: MX | L40: 99.99 | M40: '00 | P40: =+IF(LEN(I40)=1,"'0"&I40,"")
A41: 35 | B41: Red Yastás S.A. de C.V. | D41: 62 | E41: RYA110722BK1 | F41: Mancillas Gabrielle Oscar Iván | G41: '01 | I41: 62 | J41: MAGO6807281B8 | K41: MX | L41: 0 | M41: '01 | P41: =+IF(LEN(I41)=1,"'0"&I41,"")
A42: 36 | B42: Red Yastás S.A. de C.V. | D42: 62 | E42: RYA110722BK2 | F42: Majos Ramirez Enrique | G42: '01 | I42: 62 | J42: MARE7001089K1 | K42: MX | L42: 0 | M42: '02 | P42: =+IF(LEN(I42)=1,"'0"&I42,"")
A43: 37 | B43: Red Yastás S.A. de C.V. | D43: 62 | E43: RYA110722BK3 | F43: Tenorio Nuñez Raúl | G43: '01 | I43: 62 | K43: MX | L43: 0 | M43: '03 | P43: =+IF(LEN(I43)=1,"'0"&I43,"")
A44: 38 | B44: Controladora AT S.A.P.I. de C.V. | D44: 62 | E44: CAT120521IZ2 | F44: Gentera S.A.B. de C.V. | G44: '02 | I44: 62 | J44: COM1003245I8 | K44: MX | L44: 50 | M44: '00 | P44: =+IF(LEN(I44)=1,"'0"&I44,"")
A45: 39 | B45: Controladora AT S.A.P.I. de C.V. | D45: 62 | E45: CAT120521IZ2 | F45: Casanueva Perez S.A.P.I. de C.V. | G45: '01 | I45: 62 | J45: CPE9912205A8 | K45: MX | L45: 50 | M45: '00 | P45: =+IF(LEN(I45)=1,"'0"&I45,"")
A46: 40 | B46: Controladora AT S.A.P.I. de C.V. | D46: 62 | E46: CAT120521IZ2 | F46: Torres De Urquidi Mariana | G46: '01 | I46: 62 | J46: TOUM780819MDFRRR05 | K46: MX | L46: 0 | M46: '02 | P46: =+IF(LEN(I46)=1,"'0"&I46,"")
A47: 41 | B47: Controladora AT S.A.P.I. de C.V. | D47: 62 | E47: CAT120521IZ2 | F47: Reich Sapire Rose Nicole Dominique | G47: '01 | I47: 62 | J47: RESR650203 | K47: MX | L47: 0 | M47: '02 | P47: =+IF(LEN(I47)=1,"'0"&I47,"")
A48: 42 | B48: Controladora AT S.A.P.I. de C.V. | D48: 62 | E48: CAT120521IZ2 | F48: Casanueva Pérez Juan Ignacio | G48: '01 | I48: 62 | J48: CAPJ680603 | K48: MX | L48: 0 | M48: '02 | P48: =+IF(LEN(I48)=1,"'0"&I48,"")
A49: 43 | B49: Controladora AT S.A.P.I. de C.V. | D49: 62 | E49: CAT120521IZ2 | F49: Pallarés Camino Alonso Antonio | G49: '01 | I49: 62 | J49: PACA821013K23 | K49: MX | L49: 0 | M49: '02 | P49: =+IF(LEN(I49)=1,"'0"&I49,"")
A50: 44 | B50: Controladora AT S.A.P.I. de C.V. | D50: 62 | E50: CAT120521IZ2 | F50: Labarthe Costas Carlos | G50: '01 | I50: 62 | J50: LACC680718 | K50: MX | L50: 0 | M50: '01 | P50: =+IF(LEN(I50)=1,"'0"&I50,"")
A51: 45 | B51: Controladora AT S.A.P.I. de C.V. | D51: 62 | E51: CAT120521IZ2 | F51: Majós Ramírez Enrique | G51: '01 | I51: 62 | J51: MARE7001089K1 | K51: MX | L51: 0 | M51: '02 | P51: =+IF(LEN(I51)=1,"'0"&I51,"")
A52: 46 | B52: Controladora AT S.A.P.I. de C.V. | D52: 62 | E52: CAT120521IZ2 | F52: Langarica Ávila Mario Ignacio | G52: '01 | I52: 62 | J52: N12789681 | K52: MX | L52: 0 | M52: '02 | P52: =+IF(LEN(I52)=1,"'0"&I52,"")
A53: 47 | B53: Controladora AT S.A.P.I. de C.V. | D53: 62 | E53: CAT120521IZ2 | F53: Salgado Zárate Minerva | G53: '01 | I53: 62 | J53: SAZM730508EH4 | K53: MX | L53: 0 | M53: '02 | P53: =+IF(LEN(I53)=1,"'0"&I53,"")
A54: 48 | B54: Controladora AT S.A.P.I. de C.V. | D54: 62 | E54: CAT120521IZ2 | F54: Casanueva Pérez Santiago | G54: '01 | I54: 62 | J54: CAPS751003PI1 | K54: MX | L54: 0 | M54: '02 | P54: =+IF(LEN(I54)=1,"'0"&I54,"")
A55: 49 | B55: Aterna Agente de Seguros y de Fianzas, S.A. de C.V. | D55: 62 | E55: AAS100316EV9 | F55: Controladora AT S.A.P.I. de C.V. | G55: '02 | I55: ´62 | J55: CAT120521IZ2 | K55: MX | L55: 99.99 | M55: '00 | P55: =+IF(LEN(I55)=1,"'0"&I55,"")
A56: 50 | B56: Aterna Agente de Seguros y de Fianzas, S.A. de C.V. | D56: 62 | E56: AAS100316EV10 | F56: Torres De Urquidi Mariana | G56: '01 | I56: 62 | J56: TOUM780819MDFRRR05 | K56: MX | L56: 0 | M56: '02 | P56: =+IF(LEN(I56)=1,"'0"&I56,"")
A57: 51 | B57: Aterna Agente de Seguros y de Fianzas, S.A. de C.V. | D57: 62 | E57: AAS100316EV11 | F57: Reich Sapire Rose Nicole Dominique | G57: '01 | I57: 62 | J57: RESR650203 | K57: MX | L57: 0 | M57: '02 | P57: =+IF(LEN(I57)=1,"'0"&I57,"")
A58: 52 | B58: Aterna Agente de Seguros y de Fianzas, S.A. de C.V. | D58: 62 | E58: AAS100316EV12 | F58: Casanueva Pérez Juan Ignacio | G58: '01 | I58: 62 | J58: CAPJ680603 | K58: MX | L58: 0 | M58: '02 | P58: =+IF(LEN(I58)=1,"'0"&I58,"")
A59: 53 | B59: Aterna Agente de Seguros y de Fianzas, S.A. de C.V. | D59: 62 | E59: AAS100316EV13 | F59: Pallarés Camino Alonso Antonio | G59: '01 | I59: 62 | J59: PACA821013K23 | K59: MX | L59: 0 | M59: '02 | P59: =+IF(LEN(I59)=1,"'0"&I59,"")
A60: 54 | B60: Aterna Agente de Seguros y de Fianzas, S.A. de C.V. | D60: 62 | E60: AAS100316EV14 | F60: Labarthe Costas Carlos | G60: '01 | I60: 62 | J60: LACC680718 | K60: MX | L60: 0 | M60: '01 | P60: =+IF(LEN(I60)=1,"'0"&I60,"")
A61: 55 | B61: Aterna Agente de Seguros y de Fianzas, S.A. de C.V. | D61: 62 | E61: AAS100316EV15 | F61: Majós Ramírez Enrique | G61: '01 | I61: 62 | J61: MARE7001089K1 | K61: MX | L61: 0 | M61: '02 | P61: =+IF(LEN(I61)=1,"'0"&I61,"")
A62: 56 | B62: Aterna Agente de Seguros y de Fianzas, S.A. de C.V. | D62: 62 | E62: AAS100316EV16 | F62: Langarica Ávila Mario Ignacio | G62: '01 | I62: 62 | J62: N12789681 | K62: MX | L62: 0 | M62: '02 | P62: =+IF(LEN(I62)=1,"'0"&I62,"")
A63: 57 | B63: Aterna Agente de Seguros y de Fianzas, S.A. de C.V. | D63: 62 | E63: AAS100316EV17 | F63: Salgado Zárate Minerva | G63: '01 | I63: 62 | J63: SAZM730508EH4 | K63: MX | L63: 0 | M63: '02 | P63: =+IF(LEN(I63)=1,"'0"&I63,"")
A64: 58 | B64: Aterna Agente de Seguros y de Fianzas, S.A. de C.V. | D64: 62 | E64: AAS100316EV18 | F64: Casanueva Pérez Santiago | G64: '01 | I64: 62 | J64: CAPS751003PI1 | K64: MX | L64: 0 | M64: '02 | P64: =+IF(LEN(I64)=1,"'0"&I64,"")
A65: 59 | B65: Aterna Agente de Seguros y de Fianzas, S.A. de C.V. | D65: 62 | E65: AAS100316EV18 | F65: Manzano Lopez Federico | G65: '01 | I65: 62 | J65: MALF7604211I4 | K65: MX | L65: 0 | M65: '03 | P65: =+IF(LEN(I65)=1,"'0"&I65,"")
A66: 60 | B66: Aterna Agente de Seguros y de Fianzas, S.A. de C.V. | D66: 62 | E66: AAS100316EV19 | F66: Yáñez Alatriste Itzel | G66: '01 | I66: 62 | J66: YAAJB10723RR6 | K66: MX | L66: 0 | M66: '03 | P66: =+IF(LEN(I66)=1,"'0"&I66,"")
A67: 61 | B67: Compartamos Banco S.A. | D67: 06 | E67: 20369155360 | F67: Gentera S.A.B. de C.V. | G67: '02 | I67: 62 | J67: COM100324 | K67: MX | L67: 99.99 | M67: '00
A68: 62 | B68: Compartamos Banco S.A. | D68: 06 | E68: 20369155360 | F68: Laub Benavides Christian Thomas | G68: '01 | I68: '01 | J68: 10102747122 | K68: PE | L68: 0 | M68: '01 | P68: =+IF(LEN(I68)=1,"'0"&I68,"")
A69: 63 | B69: Compartamos Banco S.A. | D69: 06 | E69: 20369155360 | F69: De La Fuente Morales Manuel | G69: '01 | I69: '05 | J69: N13616375 | K69: MX | L69: 0 | M69: '02 | P69: =+IF(LEN(I69)=1,"'0"&I69,"")
A70: 64 | B70: Compartamos Banco S.A. | D70: 06 | E70: 20369155360 | F70: Bruce Marticorena Karina Victoria | G70: '01 | I70: '01 | J70: 7998061 | K70: PE | L70: 0 | M70: '02 | P70: =+IF(LEN(I70)=1,"'0"&I70,"")
A71: 65 | B71: Compartamos Banco S.A. | D71: 06 | E71: 20369155360 | F71: Araoz Fernández Mercedes Rosalba | G71: '01 | I71: '01 | J71: 10102756512 | K71: PE | L71: 0 | M71: '02 | P71: =+IF(LEN(I71)=1,"'0"&I71,"")
A72: 66 | B72: Compartamos Banco S.A. | D72: 06 | E72: 20369155360 | F72: Puente Barron Alejandro | G72: '01 | I72: '05 | J72: G25719741 | K72: MX | L72: 0 | M72: '02 | P72: =+IF(LEN(I72)=1,"'0"&I72,"")
A73: 67 | B73: Compartamos Banco S.A. | D73: 06 | E73: 20369155360 | F73: Silva Argüello Alejandro Arturo | G73: '01 | I73: '05 | J73: B01109088 | K73: CR | L73: 0 | M73: '02 | P73: =+IF(LEN(I73)=1,"'0"&I73,"")
A74: 68 | B74: Compartamos Banco S.A. | D74: 06 | E74: 20369155360 | F74: Peniche Guillermo Adolfo Antonio | G74: '01 | I74: '02 | J74: 9228610 | K74: MX | L74: 0 | M74: '03 | P74: =+IF(LEN(I74)=1,"'0"&I74,"")
A75: 69 | B75: Compartamos Banco S.A. | D75: 06 | E75: 20369155360 | F75: Ferrari Santistevan Carolina | G75: '01 | I75: '01 | J75: 40580866 | K75: PE | L75: 0 | M75: '03 | P75: =+IF(LEN(I75)=1,"'0"&I75,"")
A76: 70 | B76: Compartamos Banco S.A. | D76: 06 | E76: 20369155360 | F76: Rojas Castillo Sandra del Pilar | G76: '01 | I76: '01 | J76: 17900885 | K76: PE | L76: 0 | M76: '03 | P76: =+IF(LEN(I76)=1,"'0"&I76,"")
A77: 71 | B77: Compartamos Banco S.A. | D77: 06 | E77: 20369155360 | F77: Marcilla Truyenque Maytee | G77: '01 | I77: '01 | J77: 31039677 | K77: PE | L77: 0 | M77: '03 | P77: =+IF(LEN(I77)=1,"'0"&I77,"")
A78: 72 | B78: Compartamos Banco S.A. | D78: 06 | E78: 20369155360 | F78: Sanguineti Almendariz Cesar Augusto | G78: '01 | I78: '01 | J78: 7798052 | K78: PE | L78: 0 | M78: '03 | P78: =+IF(LEN(I78)=1,"'0"&I78,"")
A79: 73 | B79: Compartamos Banco S.A. | D79: 06 | E79: 20369155360 | F79: Aybar Salazar Iris Yanett | G79: '01 | I79: '01 | J79: 10612510 | K79: PE | L79: 0 | M79: '03 | P79: =+IF(LEN(I79)=1,"'0"&I79,"")
A80: 74 | B80: Compartamos Banco S.A. | D80: 06 | E80: 20369155360 | F80: Aguirre Osorio Jorge | G80: '01 | I80: '01 | J80: 42915130 | K80: PE | L80: 0 | M80: '03 | P80: =+IF(LEN(I80)=1,"'0"&I80,"")
A81: 75 | B81: Compartamos Banco S.A. | D81: 06 | E81: 20369155360 | F81: Lovon Fernandes Angie Andrea | G81: '01 | I81: '01 | J81: 8025297 | K81: PE | L81: 0 | M81: '04 | P81: =+IF(LEN(I81)=1,"'0"&I81,"")
A82: 76 | B82: Compartamos Banco S.A. | D82: 06 | E82: 20369155360 | F82: Lecca Neyra Humberto Alejandro | G82: '01 | I82: '01 | J82: 10549246 | K82: PE | L82: 0 | M82: '04 | P82: =+IF(LEN(I82)=1,"'0"&I82,"")
A83: 77 | B83: Compartamos Banco S.A. | D83: 06 | E83: 20369155360 | F83: Hernandez Jimenez Liliana Josefina | G83: '01 | I83: '01 | J83: 161997744 | K83: PE | L83: 0 | M83: '04 | P83: =+IF(LEN(I83)=1,"'0"&I83,"")
A84: 78 | B84: Compartamos Banco S.A. | D84: 06 | E84: 20369155360 | F84: Santos Cebrian Yodnay Milagros | G84: '01 | I84: '01 | J84: 43474769 | K84: PE | L84: 0 | M84: '04 | P84: =+IF(LEN(I84)=1,"'0"&I84,"")
A85: 79 | B85: Compartamos Banco S.A. | D85: 06 | E85: 20369155360 | F85: Aquino Rosas Jorge Antonio | G85: '01 | I85: '01 | J85: 29545330 | K85: PE | L85: 0 | M85: '04 | P85: =+IF(LEN(I85)=1,"'0"&I85,"")
... A89: 83 | B89: Compartamos Banco S.A. | D89: 06 | E89: 20369155360 | F89: Martinez Veit Jeffrey | G89: '01 | I89: '01 | J89: 43601682 | K89: PE | L89: 0 | M89: '03 | P89: =+IF(LEN(I89)=1,"'0"&I89,"")
A90: 84 | B90: Fin Útil S.A. de C.V., SOFOM, E.N.R. (“ConCrédito”) | D90: 62 | E90: FUT070924EQ6 | F90: Gentera S.A.B. de C.V. | G90: '02 | I90: 62 | J90: COM1003245I8 | K90: MX | L90: 74.91 | M90: '00 | P90: =+IF(LEN(I90)=1,"'0"&I90,"")
A91: 85 | B91: Fin Útil S.A. de C.V., SOFOM, E.N.R. (“ConCrédito”) | D91: 62 | E91: FUT070924EQ6 | F91: N5, S.A. de C.V. | G91: '02 | I91: 62 | J91: NXX0709065J3 | K91: MX | L91: 15.09 | M91: '00 | P91: =+IF(LEN(I91)=1,"'0"&I91,"")
A92: 86 | B92: Fin Útil S.A. de C.V., SOFOM, E.N.R. (“ConCrédito”) | D92: 62 | E92: FUT070924EQ6 | F92: Construcrédito S.A. de C.V. | G92: '02 | I92: 62 | J92: CON970925M7A | K92: MX | L92: 10 | M92: '00 | P92: =+IF(LEN(I92)=1,"'0"&I92,"")
A93: 87 | B93: Fin Útil S.A. de C.V., SOFOM, E.N.R. (“ConCrédito”) | D93: 62 | E93: FUT070924EQ6 | F93: Gutiérez Chapa Juan José | G93: '01 | I93: 62 | J93: GUCJ6501164D9 | K93: MX | L93: 0 | M93: '02 | P93: =+IF(LEN(I93)=1,"'0"&I93,"")
A94: 88 | B94: Fin Útil S.A. de C.V., SOFOM, E.N.R. (“ConCrédito”) | D94: 62 | E94: FUT070924EQ6 | F94: González Caballero Martha Elena | G94: '01 | I94: 62 | J94: GOCM541208SL5 | K94: MX | L94: 0 | M94: '02 | P94: =+IF(LEN(I94)=1,"'0"&I94,"")
A95: 89 | B95: Fin Útil S.A. de C.V., SOFOM, E.N.R. (“ConCrédito”) | D95: 62 | E95: FUT070924EQ6 | F95: Blanco Torres Oscar | G95: '01 | I95: 62 | J95: BATX530816V10 | K95: MX | L95: 0 | M95: '02 | P95: =+IF(LEN(I95)=1,"'0"&I95,"")
A96: 90 | B96: Fin Útil S.A. de C.V., SOFOM, E.N.R. (“ConCrédito”) | D96: 62 | E96: FUT070924EQ6 | F96: Majós Ramírez Enrique | G96: '01 | I96: 62 | J96: MARE7001089K1 | K96: MX | L96: 0 | M96: '02 | P96: =+IF(LEN(I96)=1,"'0"&I96,"")
A97: 91 | B97: Fin Útil S.A. de C.V., SOFOM, E.N.R. (“ConCrédito”) | D97: 62 | E97: FUT070924EQ6 | F97: Torres Cisneros Juan Carlos | G97: '01 | I97: 62 | J97: TOCJ630403RV2 | K97: MX | L97: 0 | M97: '01 | P97: =+IF(LEN(I97)=1,"'0"&I97,"")
A98: 92 | B98: Fin Útil S.A. de C.V., SOFOM, E.N.R. (“ConCrédito”) | D98: 62 | E98: FUT070924EQ6 | F98: Solano Arroyo José Antonio | G98: '01 | I98: 62 | J98: SOAA560429Q10 | K98: MX | L98: 0 | M98: '02 | P98: =+IF(LEN(I98)=1,"'0"&I98,"")
A99: 93 | B99: Fin Útil S.A. de C.V., SOFOM, E.N.R. (“ConCrédito”) | D99: 62 | E99: FUT070924EQ6 | F99: Nieto Aguirre Gloria Lourdes | G99: '01 | I99: 62 | J99: NIAG770706G21 | K99: MX | L99: 0 | M99: '02 | P99: =+IF(LEN(I99)=1,"'0"&I99,"")
A100: 94 | B100: Fin Útil S.A. de C.V., SOFOM, E.N.R. (“ConCrédito”) | D100: 62 | E100: FUT070924EQ6 | F100: Gandarillas González Francisco | G100: '01 | I100: 62 | J100: GAGF7010047N7 | K100: MX | L100: 0 | M100: '02 | P100: =+IF(LEN(I100)=1,"'0"&I100,"")
A101: 95 | B101: Fin Útil S.A. de C.V., SOFOM, E.N.R. (“ConCrédito”) | D101: 62 | E101: FUT070924EQ6 | F101: Carrasco Jiménez O´Farril Lorena | G101: '01 | I101: 62 | J101: CAJL771010IV2 | K101: MX | L101: 0 | M101: '02 | P101: =+IF(LEN(I101)=1,"'0"&I101,"")
... A141: 135 | B141: Talento Con Crédito S.A. de C.V. | D141: 62 | E141: TCO1810162V6 | F141: Velarde Ibarra Ramón Antonio | G141: '01 | I141: 62 | J141: VEIR881217K50 | K141: MX | L141: 0 | M141: '03 | P141: =+IF(LEN(I141)=1,"'0"&I141,"")
A142: 136 | B142: Pagos Digitales Peruanos S.A. | C142: 154505512 | D142: 06 | E142: 20600536037 | F142: Compartamos Banco S.A . | G142: '02 | H142: 0091 | I142: '06 | J142: 20369155360 | K142: PE | L142: 93.96 | M142: '00 | P142: =+IF(LEN(I142)=1,"'0"&I142,"")
A143: 137 | B143: Pagos Digitales Peruanos S.A. | C143: 154505512 | D143: 06 | E143: 20600536037 | F143: Banco de Crédito del Perú - BCP | G143: '02 | I143: '06 | J143: 20100047218 | K143: PE | L143: 3.16 | M143: '00 | P143: =+IF(LEN(I143)=1,"'0"&I143,"")
...

Sheet Txt-Rep19-A
A1: Fila | B1: Detalle | C1: PERSONA JURÍDICA O ENTE JURÍDICO INTEGRANTE DEL GRUPO ECONÓMICO | G1: INFORMACIÓN DE LA PERSONA JURÍDICA O ENTE JURÍDICO INTEGRANTE DE GRUPO ECONÓMICO
C2: Nombre o Razón Social | D2: Código SBS | E2: Documento de identidad | G2: Nombre o Razón Social | H2: Tipo de integrante | I2: Código SBS | J2: Documento de identidad | L2: País de Residencia o de Constitución | M2: Participación Accionaria o equivalente | N2: Cargo | O2: Otro Cargo
E3: Tipo de documento | F3: Número de Documento | J3: Tipo de documento | K3: Número de Documento
C4: 20 | D4: 30 | E4: 40 | F4: 50 | G4: 70 | H4: 75 | I4: 80 | J4: 90 | K4: 100 | L4: 110 | M4: 120 | N4: 130 | O4: 140
A5: 1 | B5: Detalle: 1
A8: Leyenda | B8: Cdo. Fila. | C8: Nombre | D8: CodSBS | E8: Tip.Doc. | F8: Num.Doc. | G8: Rz.Social | H8: Tip.Integra. | I8: Cod.SBS | J8: Tip.Doc. | K8: Num.Doc. | L8: Residen. | M8: Partic. | N8: Cargo. | O8: Otro Cargo. | Q8: Extensión | R8: 0219
A9: Pos. Inicial | B9: 1 | C9: 7 | D9: 127 | E9: 137 | F9: 139 | G9: 154 | H9: 274 | I9: 275 | J9: 285 | K9: 287 | L9: 302 | M9: 304 | N9: 310 | O9: 311 | Q9: Anexo | R9: 03
A10: Pos. Final | B10: 6 | C10: 126 | D10: 136 | E10: 138 | F10: 153 | G10: 273 | H10: 274 | I10: 284 | J10: 286 | K10: 301 | L10: 303 | M10: 309 | N10: 310 | O10: 311 | Q10: Código SBS | R10: 00228
A11: Longitud | B11: 6 | C11: 120 | D11: 10 | E11: 2 | F11: 15 | G11: 120 | H11: 1 | I11: 10 | J11: 2 | K11: 15 | L11: 2 | M11: 6 | N11: 1 | O11: 1 | Q11: Fecha | R11: 20251231
A12: Cod. Columna | B12: 0 | C12: 20 | D12: 30 | E12: 40 | F12: 50 | G12: 70 | H12: 75 | I12: 80 | J12: 90 | K12: 100 | L12: 110 | M12: 120 | N12: 130 | O12: 140 | Q12: Resto Título | R12: 010400091000000000
Q14: Cabecera: | R14: =R8&R9&R10&R11&R12 -> 0219030022820251231010400091000000000
B15: =RIGHT(REPT(" ",B$11)&'Rep.19-A'!A7,B$11) -> 1 | C15: =RIGHT(REPT(" ",C$11)&'Rep.19-A'!B7,C$11) -> Gentera SAB de CV | D15: =RIGHT(REPT(" ",D$11)&'Rep.19-A'!C7,D$11) | E15: =RIGHT(REPT(" ",E$11)&'Rep.19-A'!D7,E$11) -> 62 | F15: =RIGHT(REPT(" ",F$11)&'Rep.19-A'!E7,F$11) -> COM100324 | G15: =RIGHT(REPT(" ",G$11)&'Rep.19-A'!F7,G$11) -> Rallo Verdugo Antonio | H15: =RIGHT(REPT(" ",H$11)&'Rep.19-A'!G7,H$11) -> 1 | I15: =RIGHT(REPT(" ",I$11)&'Rep.19-A'!H7,I$11) | ... O15: =RIGHT(REPT(" ",O$11)&'Rep.19-A'!N7,O$11) | R15: =_xlfn.CONCAT(B15,C15,D15,E15,F15,G15,H15,I15,J15,K15,L15,M15,N15,O15) -> 1 Gentera SAB de CV 62 COM100324 Rallo Verdugo Antonio 1 62 RAVA620419MX 02
B16: =RIGHT(REPT(" ",B$11)&'Rep.19-A'!A8,B$11) -> 2 | C16: =RIGHT(REPT(" ",C$11)&'Rep.19-A'!B8,C$11) -> Gentera SAB de CV | D16: =RIGHT(REPT(" ",D$11)&'Rep.19-A'!C8,D$11) | E16: =RIGHT(REPT(" ",E$11)&'Rep.19-A'!D8,E$11) -> 62 | F16: =RIGHT(REPT(" ",F$11)&'Rep.19-A'!E8,F$11) -> COM100324 | G16: =RIGHT(REPT(" ",G$11)&'Rep.19-A'!F8,G$11) -> Danel Cendoya Carlos Antonio | H16: =RIGHT(REPT(" ",H$11)&'Rep.19-A'!G8,H$11) -> 1 | I16: =RIGHT(REPT(" ",I$11)&'Rep.19-A'!H8,I$11) | ... O16: =RIGHT(REPT(" ",O$11)&'Rep.19-A'!N8,O$11) | R16: =_xlfn.CONCAT(B16,C16,D16,E16,F16,G16,H16,I16,J16,K16,L16,M16,N16,O16) -> 2 Gentera SAB de CV 62 COM100324 Danel Cendoya Carlos Antonio 1 62 DACC691022MX 01
B17: =RIGHT(REPT(" ",B$11)&'Rep.19-A'!A9,B$11) -> 3 | C17: =RIGHT(REPT(" ",C$11)&'Rep.19-A'!B9,C$11) -> Gentera SAB de CV | D17: =RIGHT(REPT(" ",D$11)&'Rep.19-A'!C9,D$11) | E17: =RIGHT(REPT(" ",E$11)&'Rep.19-A'!D9,E$11) -> 62 | F17: =RIGHT(REPT(" ",F$11)&'Rep.19-A'!E9,F$11) -> COM100324 | G17: =RIGHT(REPT(" ",G$11)&'Rep.19-A'!F9,G$11) -> Labarthe Costas Carlos | H17: =RIGHT(REPT(" ",H$11)&'Rep.19-A'!G9,H$11) -> 1 | I17: =RIGHT(REPT(" ",I$11)&'Rep.19-A'!H9,I$11) | ... O17: =RIGHT(REPT(" ",O$11)&'Rep.19-A'!N9,O$11) | R17: =_xlfn.CONCAT(B17,C17,D17,E17,F17,G17,H17,I17,J17,K17,L17,M17,N17,O17) -> 3 Gentera SAB de CV 62 COM100324 Labarthe Costas Carlos 1 62 LACC680718MX 02
B18: =RIGHT(REPT(" ",B$11)&'Rep.19-A'!A10,B$11) -> 4 | C18: =RIGHT(REPT(" ",C$11)&'Rep.19-A'!B10,C$11) -> Gentera SAB de CV | D18: =RIGHT(REPT(" ",D$11)&'Rep.19-A'!C10,D$11) | E18: =RIGHT(REPT(" ",E$11)&'Rep.19-A'!D10,E$11) -> 62 | F18: =RIGHT(REPT(" ",F$11)&'Rep.19-A'!E10,F$11) -> COM100324 | G18: =RIGHT(REPT(" ",G$11)&'Rep.19-A'!F10,G$11) -> Arrigunaga Gómez del Campo Francisco Javier | H18: =RIGHT(REPT(" ",H$11)&'Rep.19-A'!G10,H$11) -> 1 | I18: =RIGHT(REPT(" ",I$11)&'Rep.19-A'!H10,I$11) | ... O18: =RIGHT(REPT(" ",O$11)&'Rep.19-A'!N10,O$11) | R18: =_xlfn.CONCAT(B18,C18,D18,E18,F18,G18,H18,I18,J18,K18,L18,M18,N18,O18) -> 4 Gentera SAB de CV 62 COM100324 Arrigunaga Gómez del Campo Francisco Javier 1 62 AIGF630730MX 02
B19: =RIGHT(REPT(" ",B$11)&'Rep.19-A'!A11,B$11) -> 5 | C19: =RIGHT(REPT(" ",C$11)&'Rep.19-A'!B11,C$11) -> Gentera SAB de CV | D19: =RIGHT(REPT(" ",D$11)&'Rep.19-A'!C11,D$11) | E19: =RIGHT(REPT(" ",E$11)&'Rep.19-A'!D11,E$11) -> 62 | F19: =RIGHT(REPT(" ",F$11)&'Rep.19-A'!E11,F$11) -> COM100324 | G19: =RIGHT(REPT(" ",G$11)&'Rep.19-A'!F11,G$11) -> Echevarría Mendiguren Ignacio | H19: =RIGHT(REPT(" ",H$11)&'Rep.19-A'!G11,H$11) -> 1 | I19: =RIGHT(REPT(" ",I$11)&'Rep.19-A'!H11,I$11) | ... O19: =RIGHT(REPT(" ",O$11)&'Rep.19-A'!N11,O$11) | R19: =_xlfn.CONCAT(B19,C19,D19,E19,F19,G19,H19,I19,J19,K19,L19,M19,N19,O19) -> 5 Gentera SAB de CV 62 COM100324 Echevarría Mendiguren Ignacio1 62 EEMI670712BM9MX 02
B20: =RIGHT(REPT(" ",B$11)&'Rep.19-A'!A12,B$11) -> 6 | C20: =RIGHT(REPT(" ",C$11)&'Rep.19-A'!B12,C$11) -> Gentera SAB de CV | D20: =RIGHT(REPT(" ",D$11)&'Rep.19-A'!C12,D$11) | E20: =RIGHT(REPT(" ",E$11)&'Rep.19-A'!D12,E$11) -> 62 | F20: =RIGHT(REPT(" ",F$11)&'Rep.19-A'!E12,F$11) -> COM100324 | G20: =RIGHT(REPT(" ",G$11)&'Rep.19-A'!F12,G$11) -> Ávalos Hernandez José Ignacio | H20: =RIGHT(REPT(" ",H$11)&'Rep.19-A'!G12,H$11) -> 1 | I20: =RIGHT(REPT(" ",I$11)&'Rep.19-A'!H12,I$11) | ... O20: =RIGHT(REPT(" ",O$11)&'Rep.19-A'!N12,O$11) | R20: =_xlfn.CONCAT(B20,C20,D20,E20,F20,G20,H20,I20,J20,K20,L20,M20,N20,O20) -> 6 Gentera SAB de CV 62 COM100324 Ávalos Hernandez José Ignacio1 62 AAHI590112MX 02
B21: =RIGHT(REPT(" ",B$11)&'Rep.19-A'!A13,B$11) -> 7 | C21: =RIGHT(REPT(" ",C$11)&'Rep.19-A'!B13,C$11) -> Gentera SAB de CV | D21: =RIGHT(REPT(" ",D$11)&'Rep.19-A'!C13,D$11) | E21: =RIGHT(REPT(" ",E$11)&'Rep.19-A'!D13,E$11) -> 62 | F21: =RIGHT(REPT(" ",F$11)&'Rep.19-A'!E13,F$11) -> COM100324 | G21: =RIGHT(REPT(" ",G$11)&'Rep.19-A'!F13,G$11) -> Torres Cisneros Juan Carlos | H21: =RIGHT(REPT(" ",H$11)&'Rep.19-A'!G13,H$11) -> 1 | I21: =RIGHT(REPT(" ",I$11)&'Rep.19-A'!H13,I$11) | ... O21: =RIGHT(REPT(" ",O$11)&'Rep.19-A'!N13,O$11) | R21: =_xlfn.CONCAT(B21,C21,D21,E21,F21,G21,H21,I21,J21,K21,L21,M21,N21,O21) -> 7 Gentera SAB de CV 62 COM100324 Torres Cisneros Juan Carlos1 62 TOCJ630403RV2MX 02
B22: =RIGHT(REPT(" ",B$11)&'Rep.19-A'!A14,B$11) -> 8 | C22: =RIGHT(REPT(" ",C$11)&'Rep.19-A'!B14,C$11) -> Gentera SAB de CV | D22: =RIGHT(REPT(" ",D$11)&'Rep.19-A'!C14,D$11) | E22: =RIGHT(REPT(" ",E$11)&'Rep.19-A'!D14,E$11) -> 62 | F22: =RIGHT(REPT(" ",F$11)&'Rep.19-A'!E14,F$11) -> COM100324 | G22: =RIGHT(REPT(" ",G$11)&'Rep.19-A'!F14,G$11) -> Casanueva Pérez Juan Ignacio | H22: =RIGHT(REPT(" ",H$11)&'Rep.19-A'!G14,H$11) -> 1 | I22: =RIGHT(REPT(" ",I$11)&'Rep.19-A'!H14,I$11) | ... O22: =RIGHT(REPT(" ",O$11)&'Rep.19-A'!N14,O$11) | R22: =_xlfn.CONCAT(B22,C22,D22,E22,F22,G22,H22,I22,J22,K22,L22,M22,N22,O22) -> 8 Gentera SAB de CV 62 COM100324 Casanueva Pérez Juan Ignacio1 62 CAPJ680603MX 02
B23: =RIGHT(REPT(" ",B$11)&'Rep.19-A'!A15,B$11) -> 9 | C23: =RIGHT(REPT(" ",C$11)&'Rep.19-A'!B15,C$11) -> Gentera SAB de CV | D23: =RIGHT(REPT(" ",D$11)&'Rep.19-A'!C15,D$11) | E23: =RIGHT(REPT(" ",E$11)&'Rep.19-A'!D15,E$11) -> 62 | F23: =RIGHT(REPT(" ",F$11)&'Rep.19-A'!E15,F$11) -> COM100324 | G23: =RIGHT(REPT(" ",G$11)&'Rep.19-A'!F15,G$11) -> Esquivel Hernandez Gerardo | H23: =RIGHT(REPT(" ",H$11)&'Rep.19-A'!G15,H$11) -> 1 | I23: =RIGHT(REPT(" ",I$11)&'Rep.19-A'!H15,I$11) | ... O23: =RIGHT(REPT(" ",O$11)&'Rep.19-A'!N15,O$11) | R23: =_xlfn.CONCAT(B23,C23,D23,E23,F23,G23,H23,I23,J23,K23,L23,M23,N23,O23) -> 9 Gentera SAB de CV 62 COM100324 Esquivel Hernandez Gerardo1 62 EUHG651224846MX 02
B24: =RIGHT(REPT(" ",B$11)&'Rep.19-A'!A16,B$11) -> 10 | C24: =RIGHT(REPT(" ",C$11)&'Rep.19-A'!B16,C$11) -> Gentera SAB de CV | D24: =RIGHT(REPT(" ",D$11)&'Rep.19-A'!C16,D$11) | E24: =RIGHT(REPT(" ",E$11)&'Rep.19-A'!D16,E$11) -> 62 | F24: =RIGHT(REPT(" ",F$11)&'Rep.19-A'!E16,F$11) -> COM100324 | G24: =RIGHT(REPT(" ",G$11)&'Rep.19-A'!F16,G$11) -> González Caballero Martha Elena | H24: =RIGHT(REPT(" ",H$11)&'Rep.19-A'!G16,H$11) -> 1 | I24: =RIGHT(REPT(" ",I$11)&'Rep.19-A'!H16,I$11) | ... O24: =RIGHT(REPT(" ",O$11)&'Rep.19-A'!N16,O$11) | R24: =_xlfn.CONCAT(B24,C24,D24,E24,F24,G24,H24,I24,J24,K24,L24,M24,N24,O24) -> 10 Gentera SAB de CV 62 COM100324 González Caballero Martha Elena1 62 GOCM541208MX 02
B25: =RIGHT(REPT(" ",B$11)&'Rep.19-A'!A17,B$11) -> 11 | C25: =RIGHT(REPT(" ",C$11)&'Rep.19-A'!B17,C$11) -> Gentera SAB de CV | D25: =RIGHT(REPT(" ",D$11)&'Rep.19-A'!C17,D$11) | E25: =RIGHT(REPT(" ",E$11)&'Rep.19-A'!D17,E$11) -> 62 | F25: =RIGHT(REPT(" ",F$11)&'Rep.19-A'!E17,F$11) -> COM100324 | G25: =RIGHT(REPT(" ",G$11)&'Rep.19-A'!F17,G$11) -> Reich Sapire Rose Nicole Dominique | H25: =RIGHT(REPT(" ",H$11)&'Rep.19-A'!G17,H$11) -> 1 | I25: =RIGHT(REPT(" ",I$11)&'Rep.19-A'!H17,I$11) | ... O25: =RIGHT(REPT(" ",O$11)&'Rep.19-A'!N17,O$11) | R25: =_xlfn.CONCAT(B25,C25,D25,E25,F25,G25,H25,I25,J25,K25,L25,M25,N25,O25) -> 11 Gentera SAB de CV 62 COM100324 Reich Sapire Rose Nicole Dominique1 62 RESR650203MX 02
B26: =RIGHT(REPT(" ",B$11)&'Rep.19-A'!A18,B$11) -> 12 | C26: =RIGHT(REPT(" ",C$11)&'Rep.19-A'!B18,C$11) -> Gentera SAB de CV | D26: =RIGHT(REPT(" ",D$11)&'Rep.19-A'!C18,D$11) | E26: =RIGHT(REPT(" ",E$11)&'Rep.19-A'!D18,E$11) -> 62 | F26: =RIGHT(REPT(" ",F$11)&'Rep.19-A'!E18,F$11) -> COM100324 | G26: =RIGHT(REPT(" ",G$11)&'Rep.19-A'!F18,G$11) -> Laub Benavides Christian Thomas | H26: =RIGHT(REPT(" ",H$11)&'Rep.19-A'!G18,H$11) -> 1 | I26: =RIGHT(REPT(" ",I$11)&'Rep.19-A'!H18,I$11) | ... O26: =RIGHT(REPT(" ",O$11)&'Rep.19-A'!N18,O$11) | R26: =_xlfn.CONCAT(B26,C26,D26,E26,F26,G26,H26,I26,J26,K26,L26,M26,N26,O26) -> 12 Gentera SAB de CV 62 COM100324 Laub Benavides Christian Thomas1 01 10102747122PE 02
... B300: =RIGHT(REPT(" ",B$11)&'Rep.19-A'!A292,B$11) | C300: =RIGHT(REPT(" ",C$11)&'Rep.19-A'!B292,C$11) | D300: =RIGHT(REPT(" ",D$11)&'Rep.19-A'!C292,D$11) | E300: =RIGHT(REPT(" ",E$11)&'Rep.19-A'!D292,E$11) | F300: =RIGHT(REPT(" ",F$11)&'Rep.19-A'!E292,F$11) | G300: =RIGHT(REPT(" ",G$11)&'Rep.19-A'!F292,G$11) | H300: =RIGHT(REPT(" ",H$11)&'Rep.19-A'!G292,H$11) | I300: =RIGHT(REPT(" ",I$11)&'Rep.19-A'!H292,I$11) | ... O300: =RIGHT(REPT(" ",O$11)&'Rep.19-A'!N292,O$11) | R300: =_xlfn.CONCAT(B300,C300,D300,E300,F300,G300,H300,I300,J300,K300,L300,M300,N300,O300)
